{"text_format":"1","workbook":"xlsx","n_sheets":9,"sheets":["入力","入力例","印刷","演奏利用明細書","演奏利用明細書記入例","受付用","プログラム用","名簿","名簿２"],"not_rendered":{"charts":0,"images":0,"macros":1,"external_links":0,"defined_names":1,"comments":0,"pivot_tables":0},"unopened":[],"bounds":{"document_bytes":16777216,"sheet_cells":100000,"rows_first":2000,"rows_last":500,"rows_between":2000,"halvings":0,"cell_chars":16384,"cell_head_chars":4096},"cells_cut":0,"cells_raw":0,"read":"whole","date_system":"1900"}

{"sheet":"入力","index":0,"n_rows":149,"n_cols":28,"rows_kept":149,"cut":false,"hidden":false,"merged":[[1,1,1,21],[8,11,9,20],[150,1,151,2],[27,5,27,8],[2,1,2,4],[10,3,11,3],[10,4,11,4],[10,5,11,5],[26,1,26,4],[28,1,28,4],[29,1,29,4],[30,1,30,4],[31,1,31,4],[130,1,130,15],[3,1,3,13],[4,1,4,13],[5,1,5,2],[7,1,7,4],[6,1,6,4],[8,2,8,5],[24,5,24,17],[25,1,25,4],[133,13,133,16],[135,1,135,7],[135,8,135,10],[133,21,133,24],[132,1,132,15],[145,1,145,7],[145,8,145,10],[145,11,145,13],[145,18,145,20],[135,14,135,17],[143,1,143,7],[143,8,143,10],[143,11,143,13],[143,18,143,20],[144,1,144,7],[144,8,144,10],[144,11,144,13],[144,18,144,20],[141,1,141,7],[141,8,141,10],[141,11,141,13],[141,18,141,20],[142,1,142,7],[142,8,142,10],[142,11,142,13],[142,18,142,20],[140,1,140,7],[140,8,140,10],[140,11,140,13],[140,18,140,20],[137,18,137,20],[138,1,138,7],[138,8,138,10],[138,11,138,13],[138,18,138,20],[137,1,137,7],[137,8,137,10],[137,11,137,13],[135,18,135,20],[133,2,133,3],[133,5,133,8],[133,10,133,11],[139,1,139,7],[139,8,139,10],[139,11,139,13],[139,18,139,20],[124,2,124,7],[124,10,124,12],[125,2,125,7],[125,10,125,12],[126,2,126,7],[126,10,126,12],[133,18,133,19],[136,1,136,7],[136,8,136,10],[136,11,136,13],[136,18,136,20],[135,11,135,13],[131,1,131,15],[121,2,121,7],[121,10,121,12],[122,2,122,7],[122,10,122,12],[123,2,123,7],[123,10,123,12],[118,2,118,7],[118,10,118,12],[119,2,119,7],[119,10,119,12],[120,2,120,7],[120,10,120,12],[115,2,115,7],[115,10,115,12],[116,2,116,7],[116,10,116,12],[117,2,117,7],[117,10,117,12],[112,2,112,7],[112,10,112,12],[113,2,113,7],[113,10,113,12],[114,2,114,7],[114,10,114,12],[109,2,109,7],[109,10,109,12],[110,2,110,7],[110,10,110,12],[111,2,111,7],[111,10,111,12],[106,2,106,7],[106,10,106,12],[107,2,107,7],[107,10,107,12],[108,2,108,7],[108,10,108,12],[103,2,103,7],[103,10,103,12],[104,2,104,7],[104,10,104,12],[105,2,105,7],[105,10,105,12],[100,2,100,7],[100,10,100,12],[101,2,101,7],[101,10,101,12],[102,2,102,7],[102,10,102,12],[97,2,97,7],[97,10,97,12],[98,2,98,7],[98,10,98,12],[99,2,99,7],[99,10,99,12],[94,2,94,7],[94,10,94,12],[95,2,95,7],[95,10,95,12],[96,2,96,7],[96,10,96,12],[91,2,91,7],[91,10,91,12],[92,2,92,7],[92,10,92,12],[93,2,93,7],[93,10,93,12],[88,2,88,7],[88,10,88,12],[89,2,89,7],[89,10,89,12],[90,2,90,7],[90,10,90,12],[85,2,85,7],[85,10,85,12],[86,2,86,7],[86,10,86,12],[87,2,87,7],[87,10,87,12],[82,2,82,7],[82,10,82,12],[83,2,83,7],[83,10,83,12],[84,2,84,7],[84,10,84,12],[79,2,79,7],[79,10,79,12],[80,2,80,7],[80,10,80,12],[81,2,81,7],[81,10,81,12],[76,2,76,7],[76,10,76,12],[77,2,77,7],[77,10,77,12],[78,2,78,7],[78,10,78,12],[73,2,73,7],[73,10,73,12],[74,2,74,7],[74,10,74,12],[75,2,75,7],[75,10,75,12],[70,2,70,7],[70,10,70,12],[71,2,71,7],[71,10,71,12],[72,2,72,7],[72,10,72,12],[67,2,67,7],[67,10,67,12],[68,2,68,7],[68,10,68,12],[69,2,69,7],[69,10,69,12],[64,2,64,7],[64,10,64,12],[65,2,65,7],[65,10,65,12],[66,2,66,7],[66,10,66,12],[61,2,61,7],[61,10,61,12],[62,2,62,7],[62,10,62,12],[63,2,63,7],[63,10,63,12],[58,2,58,7],[58,10,58,12],[59,2,59,7],[59,10,59,12],[60,2,60,7],[60,10,60,12],[55,2,55,7],[55,10,55,12],[56,2,56,7],[56,10,56,12],[57,2,57,7],[57,10,57,12],[52,2,52,7],[52,10,52,12],[53,2,53,7],[53,10,53,12],[54,2,54,7],[54,10,54,12],[49,2,49,7],[49,10,49,12],[50,2,50,7],[50,10,50,12],[51,2,51,7],[51,10,51,12],[46,2,46,7],[46,10,46,12],[47,2,47,7],[47,10,47,12],[48,2,48,7],[48,10,48,12],[44,2,44,7],[44,10,44,12],[45,2,45,7],[45,10,45,12],[40,2,40,7],[40,10,40,12],[41,2,41,7],[41,10,41,12],[42,2,42,7],[42,10,42,12],[38,2,38,7],[38,10,38,12],[39,2,39,7],[39,10,39,12],[36,2,36,7],[35,2,35,7],[35,10,35,12],[36,10,36,12],[43,2,43,7],[43,10,43,12],[13,10,13,12],[13,13,13,15],[14,1,14,3],[14,4,14,6],[14,7,14,9],[14,10,14,12],[14,13,14,15],[37,2,37,7],[37,10,37,12],[35,15,35,20],[12,1,12,3],[12,4,12,6],[12,7,12,9],[22,1,22,2],[23,1,23,2],[27,2,27,3],[13,1,13,3],[13,4,13,6],[13,7,13,9],[35,23,35,25],[36,15,36,20],[36,23,36,25],[37,15,37,20],[37,23,37,25],[38,15,38,20],[38,23,38,25],[39,15,39,20],[39,23,39,25],[40,15,40,20],[40,23,40,25],[41,15,41,20],[41,23,41,25],[42,15,42,20],[42,23,42,25],[43,15,43,20],[43,23,43,25],[44,15,44,20],[44,23,44,25],[45,15,45,20],[45,23,45,25],[46,15,46,20],[46,23,46,25],[47,15,47,20],[47,23,47,25],[48,15,48,20],[48,23,48,25],[49,15,49,20],[49,23,49,25],[50,15,50,20],[50,23,50,25],[51,15,51,20],[51,23,51,25],[52,15,52,20],[52,23,52,25],[53,15,53,20],[53,23,53,25],[54,15,54,20],[54,23,54,25],[55,15,55,20],[55,23,55,25],[56,15,56,20],[56,23,56,25],[57,15,57,20],[57,23,57,25],[58,15,58,20],[58,23,58,25],[59,15,59,20],[59,23,59,25],[60,15,60,20],[60,23,60,25],[61,15,61,20],[61,23,61,25],[62,15,62,20],[62,23,62,25],[63,15,63,20],[63,23,63,25],[64,15,64,20],[64,23,64,25],[65,15,65,20],[65,23,65,25],[66,15,66,20],[66,23,66,25],[67,15,67,20],[67,23,67,25],[68,15,68,20],[68,23,68,25],[69,15,69,20],[69,23,69,25],[70,15,70,20],[70,23,70,25],[71,15,71,20],[71,23,71,25],[72,15,72,20],[72,23,72,25],[73,15,73,20],[73,23,73,25],[74,15,74,20],[74,23,74,25],[75,15,75,20],[75,23,75,25],[76,15,76,20],[76,23,76,25],[77,15,77,20],[77,23,77,25],[78,15,78,20],[78,23,78,25],[79,15,79,20],[79,23,79,25],[80,15,80,20],[80,23,80,25],[81,15,81,20],[81,23,81,25],[82,15,82,20],[82,23,82,25],[83,15,83,20],[83,23,83,25],[84,15,84,20],[84,23,84,25],[85,15,85,20],[85,23,85,25],[86,15,86,20],[86,23,86,25],[87,15,87,20],[87,23,87,25],[88,15,88,20],[88,23,88,25],[89,15,89,20],[89,23,89,25],[90,15,90,20],[90,23,90,25],[91,15,91,20],[91,23,91,25],[92,15,92,20],[92,23,92,25],[93,15,93,20],[93,23,93,25],[94,15,94,20],[94,23,94,25],[95,15,95,20],[95,23,95,25],[96,15,96,20],[96,23,96,25],[97,15,97,20],[97,23,97,25],[98,15,98,20],[98,23,98,25],[99,15,99,20],[99,23,99,25],[100,15,100,20],[100,23,100,25],[101,15,101,20],[101,23,101,25],[102,15,102,20],[102,23,102,25],[103,15,103,20],[103,23,103,25],[104,15,104,20],[104,23,104,25],[105,15,105,20],[105,23,105,25],[106,15,106,20],[106,23,106,25],[107,15,107,20],[107,23,107,25],[108,15,108,20],[108,23,108,25],[109,15,109,20],[109,23,109,25],[117,23,117,25],[118,15,118,20],[118,23,118,25],[119,15,119,20],[119,23,119,25],[110,15,110,20],[110,23,110,25],[111,15,111,20],[111,23,111,25],[112,15,112,20],[112,23,112,25],[113,15,113,20],[113,23,113,25],[114,15,114,20],[114,23,114,25],[8,1,9,1],[8,6,9,6],[9,2,9,5],[9,7,9,10],[8,7,8,10],[125,15,125,20],[125,23,125,25],[126,15,126,20],[126,23,126,25],[120,15,120,20],[120,23,120,25],[121,15,121,20],[121,23,121,25],[122,15,122,20],[122,23,122,25],[123,15,123,20],[123,23,123,25],[124,15,124,20],[124,23,124,25],[115,15,115,20],[115,23,115,25],[116,15,116,20],[116,23,116,25],[117,15,117,20]]}
["茨城県マーチングフェスティバル  マーチングバンド部門参加申込書  入力画面"]
["【基本事項】","※別シートの演奏利用明細書も忘れずに入力してください。演奏利用明細書の締め切りは「参加団体打ち合わせ会議」です。また、今大会からプリントアウトしたものの提出は不要です。"]
["日付",null,null,null,null,"2024/6/20のように記入"]
["団体名",null,null,null,null,null,null,null,null,null,null,null,null,null,"必ず正式登録名で！"]
["ふりがな"]
["加盟",null,null,"リストより選択"]
["部門",null,null,null,null,"リストより選択",null,null,null,null,null,null,null,null,null,null,null,null,null,null,null,"コンテスト部門","幼保編成","M協の部"]
["編成","高校生編成",null,null,null,"リストより選択",null,null,null,null,null,null,null,null,null,null,null,null,null,null,null,"フェスティバル部門","カラーガード編成","吹連小学生BFの部"]
["部","①",null,null,null,null,"②",null,null,null,null,"※マーチングバンドの部実施規定第7、８条を熟読すること\n（吹連A，B部門重複に注意）",null,null,null,null,null,null,null,null,null,"吹","小学生編成","吹連B部門小学生の部"]
["推薦希望",null,null,null,null,null,null,null,null,null,null,null,null,null,null,null,null,null,null,null,null,"M","中学生編成","吹連A部門中学校の部"]
["演技者人数",null,"人","合計",{"$f":"B11+B12","v":0},"人",null,null,null,null,null,null,null,null,null,null,null,null,null,null,null,"吹・M","高校生編成","吹連B部門中学校の部"]
["ドラムメジャー及び指揮者人数",null,"人",null,null,null,null,null,null,null,null,null,null,null,null,null,null,null,null,null,null,"年少","大学・職場一般編成","吹連A部門高等学校以上の部"]
["登録引率者氏名",null,null,null,null,null,null,null,null,null,{"$f":"COUNTA(B13:J13)","v":0},"名",null,null,null,null,null,null,null,null,null,"年長",null,"有"]
["補助スタッフ氏名",null,null,null,null,null,null,null,null,null,null,null,null,null,null,null,null,null,null,null,null,"小１",null,"無"]
[null,null,null,null,null,null,null,null,null,null,null,null,null,null,null,null,{"$f":"COUNTA(B14:P15)","v":0},"名",null,null,null,"小２",null,"可"]
["フロアリハーサル",null,"リストより選択",null,null,null,null,null,null,null,null,null,null,null,null,null,"希望する","希望しない",null,null,null,"年中",null,"不可"]
["器物の使用",null,"リストより選択",null,null,null,null,null,null,null,null,null,null,null,null,null,"有",null,null,null,null,"小３"]
["特殊効果",null,"リストより選択",null,null,null,null,null,null,null,null,null,null,null,null,null,"無",null,null,null,null,"小４",null,"使用","不使用"]
["ピット楽器",null,"リストより選択",null,null,null,null,null,null,null,null,null,null,null,null,null,null,null,null,null,null,"小５",null,"４ｔトラック"]
["エレベーターの使用",null,"リストより選択",null,null,null,null,null,null,null,null,null,null,null,null,null,null,null,null,null,null,"小６",null,"ライトバン"]
["前日楽器搬入",null,"リストより選択  ※可能であれば前日の機材搬入をお願いします。（時刻は後日調整します）",null,null,null,null,null,null,null,null,null,null,null,null,null,null,null,null,null,null,"中１",null,"１０ｔトラック"]
["AC電源",null,"幼保編成，小学校BFのみ",null,null,null,null,null,null,null,null,null,null,null,null,null,null,null,null,null,null,"中２",null,"２ｔトラック"]
["楽器運搬",null,null,null,"台","リストより選択し台数を半角数字で入力",null,null,null,null,null,null,null,null,null,null,null,null,null,null,null,"中３",null,"なし"]
["バス",null,null,null,"台","リストより選択し台数を半角数字で入力",null,null,null,null,null,null,null,null,null,null,null,null,null,null,null,"高１",null,"大型バス"]
["団体住所（郵送物送付先）","〒",null,"-",null,null,null,null,null,null,null,null,null,null,null,null,null,null,"郡市より入力",null,null,"高２",null,"中型バス"]
["電話",null,null,null,null,"（ハイフンあり・半角数字で）",null,null,null,null,null,null,null,null,null,null,null,null,null,null,null,"高３",null,"マイクロバス"]
["ファクシミリ",null,null,null,null,"（ハイフンあり・半角数字で）",null,null,null,null,null,null,null,null,null,null,null,null,null,null,null,"一般",null,"乗用車"]
["代表者（所属長）職・氏名","職",null,null,"氏名",null,null,null,null,null,null,null,null,null,null,null,null,null,null,null,null,"教員"]
["連絡責任者氏名",null,null,null,null,null,null,null,null,null,null,null,null,null,null,null,null,null,null,null,null,null,"掲載する"]
["連絡先電話",null,null,null,null,"（ハイフンあり・半角数字で）",null,null,null,null,null,null,null,null,null,null,null,null,null,null,null,null,"掲載しない","書面で確認（写しを添付）"]
["連絡先ファクシミリ",null,null,null,null,"（ハイフンあり・半角数字で）",null,null,null,null,null,null,null,null,null,null,null,null,null,null,null,null,null,"口頭で確認"]
["緊急連絡先携帯電話",null,null,null,null,"（ハイフンあり・半角数字で）",null,null,null,null,null,null,null,null,null,null,null,null,null,null,null,null,null,"市販の楽譜使用"]
[]
[]
["【出演者登録】","※姓と名の間に全角スペース１文字分あける"]
[null,"№","氏      名",null,null,null,null,null,"年齢","学年","プログラム",null,null,null,"№","氏      名",null,null,null,null,null,"年齢","学年","プログラム"]
[null,1,null,null,null,null,null,null,null,null,null,null,null,null,91]
[null,2,null,null,null,null,null,null,null,null,null,null,null,null,92]
[null,3,null,null,null,null,null,null,null,null,null,null,null,null,93]
[null,4,null,null,null,null,null,null,null,null,null,null,null,null,94]
[null,5,null,null,null,null,null,null,null,null,null,null,null,null,95]
[null,6,null,null,null,null,null,null,null,null,null,null,null,null,96]
[null,7,null,null,null,null,null,null,null,null,null,null,null,null,97]
[null,8,null,null,null,null,null,null,null,null,null,null,null,null,98]
[null,9,null,null,null,null,null,null,null,null,null,null,null,null,99]
[null,10,null,null,null,null,null,null,null,null,null,null,null,null,100]
[null,11,null,null,null,null,null,null,null,null,null,null,null,null,101]
[null,12,null,null,null,null,null,null,null,null,null,null,null,null,102]
[null,13,null,null,null,null,null,null,null,null,null,null,null,null,103]
[null,14,null,null,null,null,null,null,null,null,null,null,null,null,104]
[null,15,null,null,null,null,null,null,null,null,null,null,null,null,105]
[null,16,null,null,null,null,null,null,null,null,null,null,null,null,106]
[null,17,null,null,null,null,null,null,null,null,null,null,null,null,107]
[null,18,null,null,null,null,null,null,null,null,null,null,null,null,108]
[null,19,null,null,null,null,null,null,null,null,null,null,null,null,109]
[null,20,null,null,null,null,null,null,null,null,null,null,null,null,110]
[null,21,null,null,null,null,null,null,null,null,null,null,null,null,111]
[null,22,null,null,null,null,null,null,null,null,null,null,null,null,112]
[null,23,null,null,null,null,null,null,null,null,null,null,null,null,113]
[null,24,null,null,null,null,null,null,null,null,null,null,null,null,114]
[null,25,null,null,null,null,null,null,null,null,null,null,null,null,115]
[null,26,null,null,null,null,null,null,null,null,null,null,null,null,116]
[null,27,null,null,null,null,null,null,null,null,null,null,null,null,117]
[null,28,null,null,null,null,null,null,null,null,null,null,null,null,118]
[null,29,null,null,null,null,null,null,null,null,null,null,null,null,119]
[null,30,null,null,null,null,null,null,null,null,null,null,null,null,120]
[null,31,null,null,null,null,null,null,null,null,null,null,null,null,121]
[null,32,null,null,null,null,null,null,null,null,null,null,null,null,122]
[null,33,null,null,null,null,null,null,null,null,null,null,null,null,123]
[null,34,null,null,null,null,null,null,null,null,null,null,null,null,124]
[null,35,null,null,null,null,null,null,null,null,null,null,null,null,125]
[null,36,null,null,null,null,null,null,null,null,null,null,null,null,126]
[null,37,null,null,null,null,null,null,null,null,null,null,null,null,127]
[null,38,null,null,null,null,null,null,null,null,null,null,null,null,128]
[null,39,null,null,null,null,null,null,null,null,null,null,null,null,129]
[null,40,null,null,null,null,null,null,null,null,null,null,null,null,130]
[null,41,null,null,null,null,null,null,null,null,null,null,null,null,131]
[null,42,null,null,null,null,null,null,null,null,null,null,null,null,132]
[null,43,null,null,null,null,null,null,null,null,null,null,null,null,133]
[null,44,null,null,null,null,null,null,null,null,null,null,null,null,134]
[null,45,null,null,null,null,null,null,null,null,null,null,null,null,135]
[null,46,null,null,null,null,null,null,null,null,null,null,null,null,136]
[null,47,null,null,null,null,null,null,null,null,null,null,null,null,137]
[null,48,null,null,null,null,null,null,null,null,null,null,null,null,138]
[null,49,null,null,null,null,null,null,null,null,null,null,null,null,139]
[null,50,null,null,null,null,null,null,null,null,null,null,null,null,140]
[null,51,null,null,null,null,null,null,null,null,null,null,null,null,141]
[null,52,null,null,null,null,null,null,null,null,null,null,null,null,142]
[null,53,null,null,null,null,null,null,null,null,null,null,null,null,143]
[null,54,null,null,null,null,null,null,null,null,null,null,null,null,144]
[null,55,null,null,null,null,null,null,null,null,null,null,null,null,145]
[null,56,null,null,null,null,null,null,null,null,null,null,null,null,146]
[null,57,null,null,null,null,null,null,null,null,null,null,null,null,147]
[null,58,null,null,null,null,null,null,null,null,null,null,null,null,148]
[null,59,null,null,null,null,null,null,null,null,null,null,null,null,149]
[null,60,null,null,null,null,null,null,null,null,null,null,null,null,150]
[null,61,null,null,null,null,null,null,null,null,null,null,null,null,151]
[null,62,null,null,null,null,null,null,null,null,null,null,null,null,152]
[null,63,null,null,null,null,null,null,null,null,null,null,null,null,153]
[null,64,null,null,null,null,null,null,null,null,null,null,null,null,154]
[null,65,null,null,null,null,null,null,null,null,null,null,null,null,155]
[null,66,null,null,null,null,null,null,null,null,null,null,null,null,156]
[null,67,null,null,null,null,null,null,null,null,null,null,null,null,157]
[null,68,null,null,null,null,null,null,null,null,null,null,null,null,158]
[null,69,null,null,null,null,null,null,null,null,null,null,null,null,159]
[null,70,null,null,null,null,null,null,null,null,null,null,null,null,160]
[null,71,null,null,null,null,null,null,null,null,null,null,null,null,161]
[null,72,null,null,null,null,null,null,null,null,null,null,null,null,162]
[null,73,null,null,null,null,null,null,null,null,null,null,null,null,163]
[null,74,null,null,null,null,null,null,null,null,null,null,null,null,164]
[null,75,null,null,null,null,null,null,null,null,null,null,null,null,165]
[null,76,null,null,null,null,null,null,null,null,null,null,null,null,166]
[null,77,null,null,null,null,null,null,null,null,null,null,null,null,167]
[null,78,null,null,null,null,null,null,null,null,null,null,null,null,168]
[null,79,null,null,null,null,null,null,null,null,null,null,null,null,169]
[null,80,null,null,null,null,null,null,null,null,null,null,null,null,170]
[null,81,null,null,null,null,null,null,null,null,null,null,null,null,171]
[null,82,null,null,null,null,null,null,null,null,null,null,null,null,172]
[null,83,null,null,null,null,null,null,null,null,null,null,null,null,173]
[null,84,null,null,null,null,null,null,null,null,null,null,null,null,174]
[null,85,null,null,null,null,null,null,null,null,null,null,null,null,175]
[null,86,null,null,null,null,null,null,null,null,null,null,null,null,176]
[null,87,null,null,null,null,null,null,null,null,null,null,null,null,177]
[null,88,null,null,null,null,null,null,null,null,null,null,null,null,178]
[null,89,null,null,null,null,null,null,null,null,null,null,null,null,179]
[null,90,null,null,null,null,null,null,null,null,null,null,null,null,180]
[]
[]
["【プログラム調査】"]
[]
["よみがな"]
["演技タイトル"]
["指導者（複数名記載可）"]
["指揮者等","役職",null,null,"氏名",null,null,null,null,"役職",null,null,"氏名",null,null,null,null,"役職","SDM",null,"氏名",null,null,null,null,null,null,"DM"]
[null,null,null,null,null,null,null,null,null,null,null,null,null,null,null,null,null,null,null,null,null,null,null,null,null,null,null,"指揮者"]
["演奏曲目","曲名",null,null,null,null,null,null,"作曲者",null,null,"編曲者",null,null,"演奏時間",null,null,null,"編曲許諾",null,null,null,"書面で確認（写しを添付）",null,null,null,null,"SDM"]
["1曲目",null,null,null,null,null,null,null,null,null,null,null,null,null,null,"分",null,"秒",null,null,null,null,"口頭で確認",null,null,null,null,"副指揮者"]
["2曲目",null,null,null,null,null,null,null,null,null,null,null,null,null,null,"分",null,"秒",null,null,null,null,"市販の楽譜を使用"]
["3曲目",null,null,null,null,null,null,null,null,null,null,null,null,null,null,"分",null,"秒",null,null,null,null,"自作曲"]
["4曲目",null,null,null,null,null,null,null,null,null,null,null,null,null,null,"分",null,"秒",null,null,null,null,"著作権消滅"]
["5曲目",null,null,null,null,null,null,null,null,null,null,null,null,null,null,"分",null,"秒"]
["6曲目",null,null,null,null,null,null,null,null,null,null,null,null,null,null,"分",null,"秒"]
["7曲目",null,null,null,null,null,null,null,null,null,null,null,null,null,null,"分",null,"秒"]
["8曲目",null,null,null,null,null,null,null,null,null,null,null,null,null,null,"分",null,"秒"]
["9曲目",null,null,null,null,null,null,null,null,null,null,null,null,null,null,"分",null,"秒"]
["10曲目",null,null,null,null,null,null,null,null,null,null,null,null,null,null,"分",null,"秒"]
[]
["入力が完了したら内容を確認し，印刷シートのみをプリントアウトし，所属長印を押印して事務局に郵送すること。Ｅメールでの送信も忘れないでください。"]
["Eメール送信の際は、ファイル名を団体名（省略名称でも可）がわかるように変更して送信してください。"]

{"sheet":"入力例","index":1,"n_rows":146,"n_cols":25,"rows_kept":146,"cut":false,"hidden":false,"merged":[[143,1,143,7],[143,8,143,10],[143,11,143,13],[143,18,143,20],[144,1,144,7],[144,8,144,10],[144,11,144,13],[144,18,144,20],[141,1,141,7],[141,8,141,10],[141,11,141,13],[141,18,141,20],[142,1,142,7],[142,8,142,10],[142,11,142,13],[142,18,142,20],[136,8,136,10],[136,11,136,13],[136,18,136,20],[133,18,133,19],[139,1,139,7],[139,8,139,10],[139,11,139,13],[139,18,139,20],[140,1,140,7],[140,8,140,10],[140,11,140,13],[140,18,140,20],[137,1,137,7],[137,8,137,10],[137,11,137,13],[137,18,137,20],[138,1,138,7],[138,8,138,10],[138,11,138,13],[138,18,138,20],[122,2,122,7],[122,10,122,12],[123,2,123,7],[123,10,123,12],[124,2,124,7],[124,10,124,12],[130,1,130,15],[131,1,131,15],[132,1,132,15],[119,2,119,7],[119,10,119,12],[120,2,120,7],[120,10,120,12],[121,2,121,7],[121,10,121,12],[116,2,116,7],[116,10,116,12],[117,2,117,7],[117,10,117,12],[118,2,118,7],[118,10,118,12],[113,2,113,7],[113,10,113,12],[114,2,114,7],[114,10,114,12],[115,2,115,7],[115,10,115,12],[110,2,110,7],[110,10,110,12],[111,2,111,7],[111,10,111,12],[112,2,112,7],[112,10,112,12],[107,2,107,7],[107,10,107,12],[108,2,108,7],[108,10,108,12],[109,2,109,7],[109,10,109,12],[104,2,104,7],[104,10,104,12],[105,2,105,7],[105,10,105,12],[106,2,106,7],[106,10,106,12],[101,2,101,7],[101,10,101,12],[102,2,102,7],[102,10,102,12],[103,2,103,7],[103,10,103,12],[98,2,98,7],[98,10,98,12],[99,2,99,7],[99,10,99,12],[100,2,100,7],[100,10,100,12],[95,2,95,7],[95,10,95,12],[96,2,96,7],[96,10,96,12],[97,2,97,7],[97,10,97,12],[92,2,92,7],[92,10,92,12],[93,2,93,7],[93,10,93,12],[94,2,94,7],[94,10,94,12],[89,2,89,7],[89,10,89,12],[90,2,90,7],[90,10,90,12],[91,2,91,7],[91,10,91,12],[86,2,86,7],[86,10,86,12],[87,2,87,7],[87,10,87,12],[88,2,88,7],[88,10,88,12],[83,2,83,7],[83,10,83,12],[84,2,84,7],[84,10,84,12],[85,2,85,7],[85,10,85,12],[80,2,80,7],[80,10,80,12],[81,2,81,7],[81,10,81,12],[82,2,82,7],[82,10,82,12],[77,2,77,7],[77,10,77,12],[78,2,78,7],[78,10,78,12],[79,2,79,7],[79,10,79,12],[74,2,74,7],[74,10,74,12],[75,2,75,7],[75,10,75,12],[76,2,76,7],[76,10,76,12],[71,2,71,7],[71,10,71,12],[72,2,72,7],[72,10,72,12],[73,2,73,7],[73,10,73,12],[68,2,68,7],[68,10,68,12],[69,2,69,7],[69,10,69,12],[70,2,70,7],[70,10,70,12],[65,2,65,7],[65,10,65,12],[66,2,66,7],[66,10,66,12],[67,2,67,7],[67,10,67,12],[62,2,62,7],[62,10,62,12],[63,2,63,7],[63,10,63,12],[64,2,64,7],[64,10,64,12],[59,2,59,7],[59,10,59,12],[60,2,60,7],[60,10,60,12],[61,2,61,7],[61,10,61,12],[56,2,56,7],[56,10,56,12],[57,2,57,7],[57,10,57,12],[58,2,58,7],[58,10,58,12],[53,2,53,7],[53,10,53,12],[54,2,54,7],[54,10,54,12],[55,2,55,7],[55,10,55,12],[50,2,50,7],[50,10,50,12],[51,2,51,7],[51,10,51,12],[52,2,52,7],[52,10,52,12],[47,2,47,7],[47,10,47,12],[48,2,48,7],[48,10,48,12],[49,2,49,7],[49,10,49,12],[44,2,44,7],[44,10,44,12],[45,2,45,7],[45,10,45,12],[46,2,46,7],[46,10,46,12],[41,2,41,7],[41,10,41,12],[42,2,42,7],[42,10,42,12],[43,2,43,7],[43,10,43,12],[38,2,38,7],[38,10,38,12],[39,2,39,7],[39,10,39,12],[40,2,40,7],[40,10,40,12],[36,2,36,7],[36,10,36,12],[37,2,37,7],[37,10,37,12],[28,1,28,4],[29,1,29,4],[30,1,30,4],[27,2,27,3],[27,5,27,8],[31,1,31,4],[25,1,25,4],[14,1,14,3],[14,4,14,6],[14,7,14,9],[14,10,14,12],[14,13,14,15],[26,1,26,4],[35,2,35,7],[35,10,35,12],[23,1,23,2],[24,5,24,17],[22,1,22,2],[35,15,35,20],[2,1,2,4],[3,1,3,13],[4,1,4,13],[5,1,5,2],[6,1,6,4],[7,1,7,4],[13,1,13,3],[13,4,13,6],[13,7,13,9],[8,2,8,5],[8,7,8,10],[8,1,9,1],[8,6,9,6],[9,2,9,5],[9,7,9,10],[10,3,11,3],[10,4,11,4],[10,5,11,5],[8,11,9,20],[12,1,12,3],[12,4,12,6],[12,7,12,9],[13,10,13,12],[13,13,13,15],[35,23,35,25],[36,15,36,20],[36,23,36,25],[37,15,37,20],[37,23,37,25],[38,15,38,20],[38,23,38,25],[39,15,39,20],[39,23,39,25],[40,15,40,20],[40,23,40,25],[41,15,41,20],[41,23,41,25],[42,15,42,20],[42,23,42,25],[43,15,43,20],[43,23,43,25],[44,15,44,20],[44,23,44,25],[45,15,45,20],[45,23,45,25],[46,15,46,20],[46,23,46,25],[47,15,47,20],[47,23,47,25],[48,15,48,20],[48,23,48,25],[49,15,49,20],[49,23,49,25],[50,15,50,20],[50,23,50,25],[51,15,51,20],[51,23,51,25],[52,15,52,20],[52,23,52,25],[53,15,53,20],[53,23,53,25],[54,15,54,20],[54,23,54,25],[55,15,55,20],[55,23,55,25],[56,15,56,20],[56,23,56,25],[57,15,57,20],[57,23,57,25],[58,15,58,20],[58,23,58,25],[59,15,59,20],[59,23,59,25],[60,15,60,20],[60,23,60,25],[61,15,61,20],[61,23,61,25],[62,15,62,20],[62,23,62,25],[63,15,63,20],[63,23,63,25],[64,15,64,20],[64,23,64,25],[65,15,65,20],[65,23,65,25],[66,15,66,20],[66,23,66,25],[67,15,67,20],[67,23,67,25],[68,15,68,20],[68,23,68,25],[69,15,69,20],[69,23,69,25],[70,15,70,20],[70,23,70,25],[71,15,71,20],[71,23,71,25],[72,15,72,20],[72,23,72,25],[73,15,73,20],[73,23,73,25],[74,15,74,20],[74,23,74,25],[75,15,75,20],[75,23,75,25],[76,15,76,20],[76,23,76,25],[77,15,77,20],[77,23,77,25],[78,15,78,20],[78,23,78,25],[79,15,79,20],[79,23,79,25],[80,15,80,20],[80,23,80,25],[81,15,81,20],[81,23,81,25],[82,15,82,20],[82,23,82,25],[83,15,83,20],[83,23,83,25],[84,15,84,20],[84,23,84,25],[85,15,85,20],[85,23,85,25],[86,15,86,20],[86,23,86,25],[87,15,87,20],[87,23,87,25],[88,15,88,20],[88,23,88,25],[89,15,89,20],[89,23,89,25],[90,15,90,20],[90,23,90,25],[91,15,91,20],[91,23,91,25],[92,15,92,20],[92,23,92,25],[93,15,93,20],[93,23,93,25],[94,15,94,20],[94,23,94,25],[95,15,95,20],[95,23,95,25],[96,15,96,20],[96,23,96,25],[97,15,97,20],[97,23,97,25],[98,15,98,20],[98,23,98,25],[99,15,99,20],[99,23,99,25],[100,15,100,20],[100,23,100,25],[101,15,101,20],[101,23,101,25],[102,15,102,20],[102,23,102,25],[103,15,103,20],[103,23,103,25],[104,15,104,20],[104,23,104,25],[105,15,105,20],[105,23,105,25],[106,15,106,20],[106,23,106,25],[107,15,107,20],[107,23,107,25],[108,15,108,20],[108,23,108,25],[109,15,109,20],[109,23,109,25],[110,15,110,20],[110,23,110,25],[111,15,111,20],[111,23,111,25],[112,15,112,20],[112,23,112,25],[113,15,113,20],[113,23,113,25],[114,15,114,20],[114,23,114,25],[115,15,115,20],[115,23,115,25],[116,15,116,20],[116,23,116,25],[117,15,117,20],[117,23,117,25],[118,15,118,20],[118,23,118,25],[119,15,119,20],[119,23,119,25],[120,15,120,20],[120,23,120,25],[121,15,121,20],[121,23,121,25],[122,15,122,20],[122,23,122,25],[123,15,123,20],[123,23,123,25],[124,15,124,20],[124,23,124,25],[133,21,133,24],[135,14,135,17],[145,1,145,7],[145,8,145,10],[145,11,145,13],[145,18,145,20],[152,1,153,2],[125,15,125,20],[125,23,125,25],[126,15,126,20],[126,23,126,25],[125,2,125,7],[125,10,125,12],[126,2,126,7],[126,10,126,12],[133,2,133,3],[133,5,133,8],[133,10,133,11],[133,13,133,16],[135,1,135,7],[135,8,135,10],[135,11,135,13],[135,18,135,20],[136,1,136,7]]}
["茨城県マーチングフェスティバル  マーチングバンド部門参加申込書  入力画面",null,null,null,null,null,null,null,null,null,null,null,null,null,null,"【入力例】"]
["【基本事項】"]
["日付","2023-06-20",null,null,null,"2023/6/20のように記入"]
["団体名","茨城県立日立商業高等学校吹奏楽部",null,null,null,null,null,null,null,null,null,null,null,null,"登録名で！"]
["ふりがな","いばらきけんりつひたちしょうぎょうこうとうがっこうすいそうがくぶ"]
["加盟","吹",null,"リストより選択"]
["部門","コンテスト部門",null,null,null,"リストより選択",null,null,null,null,null,null,null,null,null,null,null,null,null,null,null,"コンテスト部門","幼保編成","M協の部"]
["編成","高校生編成",null,null,null,"リストより選択",null,null,null,null,null,null,null,null,null,null,null,null,null,null,null,"フェスティバル部門","カラーガード編成","吹連小学生BFの部"]
["部","①","吹連A部門高等学校以上の部",null,null,null,"②","無",null,null,null,"※マーチングバンドの部実施規定第7、８条を熟読すること\n（吹連A，B部門重複に注意）",null,null,null,null,null,null,null,null,null,"吹","小学生編成","吹連B部門小学生の部"]
["推薦希望",null,"有",null,null,null,null,"無",null,null,null,null,null,null,null,null,null,null,null,null,null,"M","中学生編成","吹連A部門中学校の部"]
["演技者人数",38,"人","合計",{"$f":"B11+B12","v":40},"人",null,null,null,null,null,null,null,null,null,null,null,null,null,null,null,"吹・M","高校生編成","吹連B部門中学校の部"]
["ドラムメジャー及び指揮者人数",2,"人",null,null,null,null,null,null,null,null,null,null,null,null,null,null,null,null,null,null,"年少","大学・職場一般編成","吹連A部門高等学校以上の部"]
["登録引率者氏名","松崎　佳介",null,null,"日立　商太郎",null,null,"山田　太郎",null,null,{"$f":"COUNTA(B13:J13)","v":3},"名",null,null,null,null,null,null,null,null,null,"年長",null,"有"]
["補助スタッフ氏名","日立　商子",null,null,"久慈　太郎",null,null,"商業　出来夫",null,null,"久慈　花子",null,null,"大甕　不読",null,null,null,null,null,null,null,"小１",null,"無"]
[null,"南高野　久慈男",null,null,"水木　浜子",null,null,"森山　町子",null,null,"東大沼　太郎",null,null,"坂本　次郎",null,null,{"$f":"COUNTA(B14:P15)","v":10},"名",null,null,null,"小２",null,"可"]
["フロアリハーサル","希望する","リストより選択",null,null,null,null,null,null,null,null,null,null,null,null,null,"希望する","希望しない",null,null,null,"年中",null,"吹連B部門高等学校以上の部"]
["器物の使用","有","リストより選択",null,null,null,null,null,null,null,null,null,null,null,null,null,"有",null,null,null,null,"小３",null,"不可"]
["特殊効果","有","リストより選択",null,null,null,null,null,null,null,null,null,null,null,null,null,"無",null,null,null,null,"小４",null,"使用","不使用"]
["ピット楽器","有","リストより選択",null,null,null,null,null,null,null,null,null,null,null,null,null,null,null,null,null,null,"小５",null,"４ｔトラック"]
["エレベーターの使用","無","リストより選択",null,null,null,null,null,null,null,null,null,null,null,null,null,null,null,null,null,null,"小６",null,"ライトバン"]
["前日楽器搬入","可","リストより選択  ※可能であれば前日の機材搬入をお願いします。（時刻は後日調整します）",null,null,null,null,null,null,null,null,null,null,null,null,null,null,null,null,null,null,"中１",null,"１０ｔトラック"]
["AC電源","不使用","幼保編成，小学校BFのみ",null,null,null,null,null,null,null,null,null,null,null,null,null,null,null,null,null,null,"中２",null,"２ｔトラック"]
["楽器運搬","１０ｔトラック",null,1,"台","リストより選択し台数を半角数字で入力",null,null,null,null,null,null,null,null,null,null,null,null,null,null,null,"中３",null,"なし"]
["バス","大型バス",null,1,"台","リストより選択し台数を半角数字で入力",null,null,null,null,null,null,null,null,null,null,null,null,null,null,null,"高１",null,"大型バス"]
["団体住所（郵送物送付先）","〒",319,"-","1222","日立市久慈町6−20−１",null,null,null,null,null,null,null,null,null,null,null,null,"郡市より入力",null,null,"高２",null,"中型バス"]
["電話","0296-52-4779",null,null,null,"（ハイフンあり・半角数字で）",null,null,null,null,null,null,null,null,null,null,null,null,null,null,null,"高３",null,"マイクロバス"]
["ファクシミリ","0296-53-8243",null,null,null,"（ハイフンあり・半角数字で）",null,null,null,null,null,null,null,null,null,null,null,null,null,null,null,"一般",null,"乗用車"]
["代表者（所属長）職・氏名","職","校長",null,"氏名","久慈　太郎",null,null,null,null,null,null,null,null,null,null,null,null,null,null,null,"教員"]
["連絡責任者氏名","松﨑　佳介",null,null,null,null,null,null,null,null,null,null,null,null,null,null,null,null,null,null,null,null,"掲載する"]
["連絡先電話","090-8487-6644",null,null,null,"（ハイフンあり・半角数字で）",null,null,null,null,null,null,null,null,null,null,null,null,null,null,null,null,"掲載しない","書面で確認（写しを添付）"]
["連絡先ファクシミリ","なし",null,null,null,"（ハイフンあり・半角数字で）",null,null,null,null,null,null,null,null,null,null,null,null,null,null,null,null,null,"口頭で確認"]
["緊急連絡先携帯電話","090-8487-6644",null,null,null,"（ハイフンあり・半角数字で）",null,null,null,null,null,null,null,null,null,null,null,null,null,null,null,null,null,"市販の楽譜使用"]
[]
[]
["【出演者登録】","※姓と名の間に全角スペース１文字分あける"]
[null,"№","氏      名",null,null,null,null,null,"年齢","学年","プログラム",null,null,null,"№","氏      名",null,null,null,null,null,"年齢","学年","プログラム"]
[null,1,"日立　商業",null,null,null,null,null,17,"高２",null,null,null,null,91]
[null,2,"日立　商次郎",null,null,null,null,null,17,"高２",null,null,null,null,92]
[null,3,"山下　太郎",null,null,null,null,null,18,"高３",null,null,null,null,93]
[null,4,"坂本　太郎",null,null,null,null,null,18,"高３",null,null,null,null,94]
[null,5,"東大沼　次郎",null,null,null,null,null,16,"高１",null,null,null,null,95]
[null,6,"森山　町夫",null,null,null,null,null,16,"高１",null,null,null,null,96]
[null,7,"水木　浜男",null,null,null,null,null,17,"高２",null,null,null,null,97]
[null,8,"久慈　次郎",null,null,null,null,null,18,"高３",null,null,null,null,98]
[null,9,"久慈　三郎",null,null,null,null,null,18,"高３",null,null,null,null,99]
[null,10,"大甕　可読",null,null,null,null,null,16,"高１",null,null,null,null,100]
[null,11,"日立　商業",null,null,null,null,null,16,"高１",null,null,null,null,101]
[null,12,"日立　商次郎",null,null,null,null,null,17,"高２",null,null,null,null,102]
[null,13,"山下　太郎",null,null,null,null,null,18,"高３",null,null,null,null,103]
[null,14,"坂本　太郎",null,null,null,null,null,18,"高３",null,null,null,null,104]
[null,15,"東大沼　次郎",null,null,null,null,null,16,"高１",null,null,null,null,105]
[null,16,"森山　町夫",null,null,null,null,null,16,"高１",null,null,null,null,106]
[null,17,"水木　浜男",null,null,null,null,null,17,"高２",null,null,null,null,107]
[null,18,"久慈　次郎",null,null,null,null,null,18,"高３",null,null,null,null,108]
[null,19,"久慈　三郎",null,null,null,null,null,18,"高３",null,null,null,null,109]
[null,20,"大甕　可読",null,null,null,null,null,16,"高１",null,null,null,null,110]
[null,21,"日立　商業",null,null,null,null,null,16,"高１",null,null,null,null,111]
[null,22,"日立　商次郎",null,null,null,null,null,17,"高２",null,null,null,null,112]
[null,23,"山下　太郎",null,null,null,null,null,18,"高３",null,null,null,null,113]
[null,24,"坂本　太郎",null,null,null,null,null,45,"教員",null,null,null,null,114]
[null,25,"東大沼　次郎",null,null,null,null,null,16,"高１",null,null,null,null,115]
[null,26,"森山　町夫",null,null,null,null,null,16,"高１",null,null,null,null,116]
[null,27,"水木　浜男",null,null,null,null,null,17,"高２",null,null,null,null,117]
[null,28,"久慈　次郎",null,null,null,null,null,18,"高３",null,null,null,null,118]
[null,29,"久慈　三郎",null,null,null,null,null,18,"高３",null,null,null,null,119]
[null,30,"大甕　可読",null,null,null,null,null,16,"高１",null,null,null,null,120]
[null,31,"日立　商業",null,null,null,null,null,16,"高１",null,null,null,null,121]
[null,32,"日立　商次郎",null,null,null,null,null,17,"高２",null,null,null,null,122]
[null,33,"山下　太郎",null,null,null,null,null,18,"高３",null,null,null,null,123]
[null,34,"坂本　太郎",null,null,null,null,null,18,"高３",null,null,null,null,124]
[null,35,"東大沼　次郎",null,null,null,null,null,16,"高１",null,null,null,null,125]
[null,36,"森山　町夫",null,null,null,null,null,16,"高１",null,null,null,null,126]
[null,37,"水木　浜男",null,null,null,null,null,17,"高２",null,null,null,null,127]
[null,38,"久慈　次郎",null,null,null,null,null,18,"高３",null,null,null,null,128]
[null,39,"久慈　三郎",null,null,null,null,null,18,"高３",null,null,null,null,129]
[null,40,"大甕　可読",null,null,null,null,null,16,"高１",null,null,null,null,130]
[null,41,null,null,null,null,null,null,null,null,null,null,null,null,131]
[null,42,null,null,null,null,null,null,null,null,null,null,null,null,132]
[null,43,null,null,null,null,null,null,null,null,null,null,null,null,133]
[null,44,null,null,null,null,null,null,null,null,null,null,null,null,134]
[null,45,null,null,null,null,null,null,null,null,null,null,null,null,135]
[null,46,null,null,null,null,null,null,null,null,null,null,null,null,136]
[null,47,null,null,null,null,null,null,null,null,null,null,null,null,137]
[null,48,null,null,null,null,null,null,null,null,null,null,null,null,138]
[null,49,null,null,null,null,null,null,null,null,null,null,null,null,139]
[null,50,null,null,null,null,null,null,null,null,null,null,null,null,140]
[null,51,null,null,null,null,null,null,null,null,null,null,null,null,141]
[null,52,null,null,null,null,null,null,null,null,null,null,null,null,142]
[null,53,null,null,null,null,null,null,null,null,null,null,null,null,143]
[null,54,null,null,null,null,null,null,null,null,null,null,null,null,144]
[null,55,null,null,null,null,null,null,null,null,null,null,null,null,145]
[null,56,null,null,null,null,null,null,null,null,null,null,null,null,146]
[null,57,null,null,null,null,null,null,null,null,null,null,null,null,147]
[null,58,null,null,null,null,null,null,null,null,null,null,null,null,148]
[null,59,null,null,null,null,null,null,null,null,null,null,null,null,149]
[null,60,null,null,null,null,null,null,null,null,null,null,null,null,150]
[null,61,null,null,null,null,null,null,null,null,null,null,null,null,151]
[null,62,null,null,null,null,null,null,null,null,null,null,null,null,152]
[null,63,null,null,null,null,null,null,null,null,null,null,null,null,153]
[null,64,null,null,null,null,null,null,null,null,null,null,null,null,154]
[null,65,null,null,null,null,null,null,null,null,null,null,null,null,155]
[null,66,null,null,null,null,null,null,null,null,null,null,null,null,156]
[null,67,null,null,null,null,null,null,null,null,null,null,null,null,157]
[null,68,null,null,null,null,null,null,null,null,null,null,null,null,158]
[null,69,null,null,null,null,null,null,null,null,null,null,null,null,159]
[null,70,null,null,null,null,null,null,null,null,null,null,null,null,160]
[null,71,null,null,null,null,null,null,null,null,null,null,null,null,161]
[null,72,null,null,null,null,null,null,null,null,null,null,null,null,162]
[null,73,null,null,null,null,null,null,null,null,null,null,null,null,163]
[null,74,null,null,null,null,null,null,null,null,null,null,null,null,164]
[null,75,null,null,null,null,null,null,null,null,null,null,null,null,165]
[null,76,null,null,null,null,null,null,null,null,null,null,null,null,166]
[null,77,null,null,null,null,null,null,null,null,null,null,null,null,167]
[null,78,null,null,null,null,null,null,null,null,null,null,null,null,168]
[null,79,null,null,null,null,null,null,null,null,null,null,null,null,169]
[null,80,null,null,null,null,null,null,null,null,null,null,null,null,170]
[null,81,null,null,null,null,null,null,null,null,null,null,null,null,171]
[null,82,null,null,null,null,null,null,null,null,null,null,null,null,172]
[null,83,null,null,null,null,null,null,null,null,null,null,null,null,173]
[null,84,null,null,null,null,null,null,null,null,null,null,null,null,174]
[null,85,null,null,null,null,null,null,null,null,null,null,null,null,175]
[null,86,null,null,null,null,null,null,null,null,null,null,null,null,176]
[null,87,null,null,null,null,null,null,null,null,null,null,null,null,177]
[null,88,null,null,null,null,null,null,null,null,null,null,null,null,178]
[null,89,null,null,null,null,null,null,null,null,null,null,null,null,179]
[null,90,null,null,null,null,null,null,null,null,null,null,null,null,180]
[]
[]
["【プログラム調査】"]
[]
["よみがな","くじのそら"]
["演技タイトル","久慈の空"]
["指導者（複数名記載可）","HCWEスタッフ"]
["指揮者等","役職","DM",null,"氏名","久慈　次郎",null,null,null,"役職","副指揮者",null,"氏名","坂本　太郎",null,null,null,"役職","SDM",null,"氏名","久慈　三郎"]
[]
["演奏曲目","曲名",null,null,null,null,null,null,"作曲者",null,null,"編曲者",null,null,"演奏時間",null,null,null,"編曲許諾",null,null,null,"書面で確認（写しを添付）"]
["1曲目","久慈の朝",null,null,null,null,null,null,"matsukei",null,null,"matsukei",null,null,2,"分",0,"秒","自作曲",null,null,null,"口頭で確認"]
["2曲目","久慈の昼",null,null,null,null,null,null,"matuzaki",null,null,"matsukei",null,null,2,"分",0,"秒","書面で確認（写しを添付）",null,null,null,"市販の楽譜を使用"]
["3曲目","久慈の夕方",null,null,null,null,null,null,"matuzaki",null,null,"matsukei",null,null,1,"分",30,"秒","口頭で確認",null,null,null,"自作曲"]
["4曲目",null,null,null,null,null,null,null,null,null,null,null,null,null,null,"分",null,"秒",null,null,null,null,"著作権消滅"]
["5曲目",null,null,null,null,null,null,null,null,null,null,null,null,null,null,"分",null,"秒"]
["6曲目",null,null,null,null,null,null,null,null,null,null,null,null,null,null,"分",null,"秒"]
["7曲目",null,null,null,null,null,null,null,null,null,null,null,null,null,null,"分",null,"秒"]
["8曲目",null,null,null,null,null,null,null,null,null,null,null,null,null,null,"分",null,"秒"]
["9曲目",null,null,null,null,null,null,null,null,null,null,null,null,null,null,"分",null,"秒"]
["10曲目",null,null,null,null,null,null,null,null,null,null,null,null,null,null,"分",null,"秒"]

{"sheet":"印刷","index":2,"n_rows":28,"n_cols":27,"rows_kept":28,"cut":false,"hidden":false,"merged":[[12,0,14,1],[13,26,14,27],[14,11,14,19],[12,12,12,19],[12,20,12,22],[13,2,13,6],[13,7,13,8],[13,11,13,13],[13,15,13,18],[14,2,14,6],[14,7,14,9],[12,2,12,6],[12,7,12,10],[13,20,14,25],[10,4,11,6],[10,14,11,15],[10,16,11,18],[21,26,22,27],[15,17,20,17],[15,18,17,19],[15,20,17,27],[16,4,18,16],[18,18,18,19],[15,5,15,7],[15,9,15,11],[19,6,19,16],[20,6,20,16],[18,20,18,27],[19,20,19,27],[20,20,20,27],[26,15,27,17],[26,18,27,25],[3,0,3,2],[3,3,3,5],[3,6,3,7],[4,0,4,1],[21,0,22,15],[21,16,22,19],[21,20,22,21],[21,22,22,23],[21,24,22,25],[20,4,20,5],[20,18,20,19],[19,4,19,5],[19,18,19,19],[15,0,20,3],[8,23,9,25],[8,26,9,27],[10,0,11,3],[10,7,11,11],[10,12,11,13],[10,19,11,23],[10,24,11,25],[8,10,9,11],[8,12,9,14],[8,15,9,17],[8,18,9,19],[8,20,9,22],[10,26,11,27],[8,0,9,3],[8,4,9,6],[8,7,9,9],[0,0,1,27],[5,0,5,3],[5,4,5,27],[6,0,7,3],[6,4,7,27],[4,18,4,19],[4,20,4,26],[4,2,4,8],[3,8,3,15],[4,11,4,17],[4,9,4,10]]}
["第61回茨城県マーチングフェスティバル マーチングバンドの部\n参  加  申  込  書"]
[]
[]
["加盟",null,null,{"$f":"入力!B6","v":0},null,null,"部門",null,{"$f":"入力!B7","v":0}]
["編成",null,{"$f":"入力!B8","v":"高校生編成"},null,null,null,null,null,null,"部①",null,{"$f":"入力!C9","v":0},null,null,null,null,null,null,"部②",null,{"$f":"入力!H9","v":0}]
["ふりがな",null,null,null,{"$f":"入力!B5","v":0}]
["団体名",null,null,null,{"$f":"入力!B4","v":0}]
[]
["出演人数",null,null,null,"指揮者等",null,null,{"$f":"入力!B12","v":0},null,null,"名",null,"演技者",null,null,{"$f":"入力!B11","v":0},null,null,"名",null,"合計",null,null,{"$f":"H9+P9","v":0},null,null,"名"]
[]
["交通運搬",null,null,null,"交通",null,null,{"$f":"入力!B24","v":0},null,null,null,null,{"$f":"入力!D24","v":0},null,"台",null,"運搬",null,null,{"$f":"入力!B23","v":0},null,null,null,null,{"$f":"入力!D23","v":0},null,"台"]
[]
["参加料",null,"団体参加\n負担金",null,null,null,null,{"$f":"IF(I4=\"フェスティバル部門\",\"8,000\",IF(I4=\"コンテスト部門\",\"10,000\",))","v":0},null,null,null,"円",null,null,null,null,null,null,null,null,"合計金額"]
[null,null,"個人参加\n負担金",null,null,null,null,{"$f":"X9","v":0},null,"人","×","1,500円",null,null,"＝",{"$f":"H14*1500","v":0},null,null,null,"円",{"$f":"H13+P14+500","v":500},null,null,null,null,null,"円"]
[null,null,"郵送料",null,null,null,null,500,null,null,"円"]
["団体住所",null,null,null,"〒",{"$f":"入力!C25","v":0},null,null,"-",{"$f":"入力!E25","v":0},null,null,null,null,null,null,null,"連絡責任者","氏名",null,{"$f":"入力!B29","v":0}]
[null,null,null,null,{"$f":"入力!F25","v":0}]
[]
[null,null,null,null,null,null,null,null,null,null,null,null,null,null,null,null,null,null,"電話",null,{"$f":"入力!B30","v":0}]
[null,null,null,null,"電話",null,{"$f":"入力!B26","v":0},null,null,null,null,null,null,null,null,null,null,null,"FAX",null,{"$f":"入力!B31","v":0}]
[null,null,null,null,"FAX",null,{"$f":"入力!B27","v":0},null,null,null,null,null,null,null,null,null,null,null,"携帯",null,{"$f":"入力!B32","v":0}]
["上記のとおり申し込みます。",null,null,null,null,null,null,null,null,null,null,null,null,null,null,null,{"$f":"入力!B3","v":"00:00:00"},null,null,null,{"$f":"入力!B3","v":"00:00:00"},null,"月",null,{"$f":"入力!B3","v":"00:00:00"},null,"日"]
[]
[null,"茨城県マーチングフェスティバル大会長　殿"]
[]
[]
[null,null,null,null,null,null,null,null,null,null,null,null,null,null,null,{"$f":"入力!C28","v":0},null,null,{"$f":"入力!F28","v":0}]
[null,null,null,null,null,null,null,null,null,null,"団体長　職・氏名",null,null,null,null,null,null,null,null,null,null,null,null,null,null,null,"印"]

{"sheet":"演奏利用明細書","index":3,"n_rows":36,"n_cols":53,"rows_kept":36,"cut":false,"hidden":false,"merged":[[3,33,4,37],[3,38,4,42],[3,43,6,43],[3,44,9,52],[5,29,6,32],[5,33,6,37],[5,38,9,42],[0,4,0,12],[1,1,1,2],[1,4,2,6],[1,7,2,13],[1,16,2,35],[3,0,5,2],[3,3,5,14],[3,15,5,17],[3,18,5,28],[3,29,4,32],[6,18,7,28],[7,29,9,32],[7,33,9,37],[7,43,9,43],[8,3,9,3],[8,4,9,10],[8,18,9,28],[6,0,9,2],[6,3,7,3],[6,4,7,10],[6,11,9,12],[6,13,9,14],[6,15,9,17],[11,44,12,44],[11,45,12,52],[11,53,12,53],[12,38,12,43],[11,0,12,11],[11,12,12,17],[11,18,12,20],[11,21,12,26],[11,27,12,31],[11,32,12,33],[13,39,14,39],[13,40,14,40],[13,0,14,0],[13,12,13,17],[13,18,14,18],[13,19,13,20],[13,21,13,26],[13,27,13,31],[11,34,12,35],[11,36,12,37],[11,38,11,43],[13,1,13,11],[13,53,14,53],[14,1,14,11],[14,12,14,17],[14,19,14,20],[14,21,14,26],[14,27,14,31],[14,32,14,33],[14,34,14,35],[13,47,14,47],[13,48,14,48],[13,49,14,49],[13,50,14,50],[13,51,14,51],[13,52,14,52],[13,41,14,41],[13,42,14,42],[13,43,14,43],[13,44,14,44],[13,45,14,45],[13,46,14,46],[13,32,13,33],[13,34,13,35],[13,36,14,37],[13,38,14,38],[15,39,16,39],[15,40,16,40],[15,0,16,0],[15,12,15,17],[15,18,16,18],[15,19,15,20],[15,21,15,26],[15,27,15,31],[15,1,15,11],[15,53,16,53],[16,1,16,11],[16,12,16,17],[16,19,16,20],[16,21,16,26],[16,27,16,31],[16,32,16,33],[16,34,16,35],[15,47,16,47],[15,48,16,48],[15,49,16,49],[15,50,16,50],[15,51,16,51],[15,52,16,52],[15,41,16,41],[15,42,16,42],[15,43,16,43],[15,44,16,44],[15,45,16,45],[15,46,16,46],[15,32,15,33],[15,34,15,35],[15,36,16,37],[15,38,16,38],[17,45,18,45],[17,46,18,46],[17,32,17,33],[17,34,17,35],[17,36,18,37],[17,38,18,38],[17,39,18,39],[17,40,18,40],[17,0,18,0],[17,12,17,17],[17,18,18,18],[17,19,17,20],[17,21,17,26],[17,27,17,31],[17,1,17,11],[19,0,20,0],[19,12,19,17],[19,18,20,18],[19,19,19,20],[19,21,19,26],[19,27,19,31],[17,53,18,53],[18,1,18,11],[18,12,18,17],[18,19,18,20],[18,21,18,26],[18,27,18,31],[18,32,18,33],[18,34,18,35],[17,47,18,47],[17,48,18,48],[17,49,18,49],[17,50,18,50],[17,51,18,51],[17,52,18,52],[17,41,18,41],[17,42,18,42],[17,43,18,43],[17,44,18,44],[19,43,20,43],[19,44,20,44],[19,45,20,45],[19,46,20,46],[19,32,19,33],[19,34,19,35],[19,36,20,37],[19,38,20,38],[19,39,20,39],[19,40,20,40],[21,39,22,39],[21,40,22,40],[21,0,22,0],[21,12,21,17],[21,18,22,18],[21,19,21,20],[21,21,21,26],[21,27,21,31],[19,53,20,53],[20,1,20,11],[20,12,20,17],[20,19,20,20],[20,21,20,26],[20,27,20,31],[20,32,20,33],[20,34,20,35],[19,47,20,47],[19,48,20,48],[19,49,20,49],[19,50,20,50],[19,51,20,51],[19,52,20,52],[19,41,20,41],[19,42,20,42],[21,53,22,53],[22,1,22,11],[22,12,22,17],[22,19,22,20],[22,21,22,26],[22,27,22,31],[22,32,22,33],[22,34,22,35],[21,47,22,47],[21,48,22,48],[21,49,22,49],[21,50,22,50],[21,51,22,51],[21,52,22,52],[21,41,22,41],[21,42,22,42],[21,43,22,43],[21,44,22,44],[21,45,22,45],[21,46,22,46],[21,32,21,33],[21,34,21,35],[21,36,22,37],[21,38,22,38],[23,45,24,45],[23,46,24,46],[23,32,23,33],[23,34,23,35],[23,36,24,37],[23,38,24,38],[23,39,24,39],[23,40,24,40],[23,0,24,0],[23,12,23,17],[23,18,24,18],[23,19,23,20],[23,21,23,26],[23,27,23,31],[25,0,26,0],[25,12,25,17],[25,18,26,18],[25,19,25,20],[25,21,25,26],[25,27,25,31],[23,53,24,53],[24,1,24,11],[24,12,24,17],[24,19,24,20],[24,21,24,26],[24,27,24,31],[24,32,24,33],[24,34,24,35],[23,47,24,47],[23,48,24,48],[23,49,24,49],[23,50,24,50],[23,51,24,51],[23,52,24,52],[23,41,24,41],[23,42,24,42],[23,43,24,43],[23,44,24,44],[25,43,26,43],[25,44,26,44],[25,45,26,45],[25,46,26,46],[25,32,25,33],[25,34,25,35],[25,36,26,37],[25,38,26,38],[25,39,26,39],[25,40,26,40],[27,39,28,39],[27,40,28,40],[27,0,28,0],[27,12,27,17],[27,18,28,18],[27,19,27,20],[27,21,27,26],[27,27,27,31],[25,53,26,53],[26,1,26,11],[26,12,26,17],[26,19,26,20],[26,21,26,26],[26,27,26,31],[26,32,26,33],[26,34,26,35],[25,47,26,47],[25,48,26,48],[25,49,26,49],[25,50,26,50],[25,51,26,51],[25,52,26,52],[25,41,26,41],[25,42,26,42],[27,53,28,53],[28,1,28,11],[28,12,28,17],[28,19,28,20],[28,21,28,26],[28,27,28,31],[28,32,28,33],[28,34,28,35],[27,47,28,47],[27,48,28,48],[27,49,28,49],[27,50,28,50],[27,51,28,51],[27,52,28,52],[27,41,28,41],[27,42,28,42],[27,43,28,43],[27,44,28,44],[27,45,28,45],[27,46,28,46],[27,32,27,33],[27,34,27,35],[27,36,28,37],[27,38,28,38],[29,45,30,45],[29,46,30,46],[29,32,29,33],[29,34,29,35],[29,36,30,37],[29,38,30,38],[29,39,30,39],[29,40,30,40],[29,0,30,0],[29,12,29,17],[29,18,30,18],[29,19,29,20],[29,21,29,26],[29,27,29,31],[31,0,32,0],[31,12,31,17],[31,18,32,18],[31,19,31,20],[31,21,31,26],[31,27,31,31],[29,53,30,53],[30,1,30,11],[30,12,30,17],[30,19,30,20],[30,21,30,26],[30,27,30,31],[30,32,30,33],[30,34,30,35],[29,47,30,47],[29,48,30,48],[29,49,30,49],[29,50,30,50],[29,51,30,51],[29,52,30,52],[29,41,30,41],[29,42,30,42],[29,43,30,43],[29,44,30,44],[31,44,32,44],[31,45,32,45],[31,46,32,46],[31,32,31,33],[31,34,31,35],[31,36,32,37],[31,38,32,38],[31,39,32,39],[31,40,32,40],[34,18,34,20],[34,31,34,34],[34,44,34,52],[35,1,35,5],[35,18,35,20],[35,22,35,23],[35,31,35,34],[31,53,32,53],[32,1,32,11],[32,12,32,17],[32,19,32,20],[32,21,32,26],[32,27,32,31],[32,32,32,33],[32,34,32,35],[31,47,32,47],[31,48,32,48],[31,49,32,49],[31,50,32,50],[31,51,32,51],[31,52,32,52],[31,41,32,41],[31,42,32,42],[31,43,32,43],[19,1,19,11],[21,1,21,11],[23,1,23,11],[25,1,25,11],[27,1,27,11],[29,1,29,11],[31,1,31,11],[33,17,33,27],[33,31,33,34]]}
[null,null,null,null,"＊太線の枠内のみ記入してください。",null,null,null,null,null,null,null,null,null,null,null,null,null,null,null,null,null,null,null,null,null,null,null,null,null,null,null,null,null,null,null,null,null,null,null,null,null,null,"エントリー№"]
["No.",null,null,null,"提出日",null,null,null,null,null,null,null,null,null,null,null,"演　奏　利　用　明　細　書　　　　　　　　　　　　　　　　　　　"]
[]
["催物名",null,null,"第61回茨城県マーチングフェスティバル",null,null,null,null,null,null,null,null,null,null,null,"会場名",null,null,"ひたちなか市総合運動公園総合体育館",null,null,null,null,null,null,null,null,null,null,"公演回数",null,null,null,"1回",null,null,null,null,"平均入場料",null,null,null,null,"レコード"]
[]
[null,null,null,null,null,null,null,null,null,null,null,null,null,null,null,null,null,null,null,null,null,null,null,null,null,null,null,null,null,"公演所要時間",null,null,null,"360分",null,null,null,null,"円"]
["開催日",null,null,"自","2024-08-25",null,null,null,null,null,null,1,null,"日間",null,"お申込者名",null,null,"茨城県マーチングバンド協会"]
[null,null,null,null,null,null,null,null,null,null,null,null,null,null,null,null,null,null,null,null,null,null,null,null,null,null,null,null,null,"会場の定員数",null,null,null,"1500名",null,null,null,null,null,null,null,null,null,"適"]
[null,null,null,"至","2024-08-25",null,null,null,null,null,null,null,null,null,null,null,null,null,"TEL 090−8487–6644    "]
[]
[]
["演奏曲目（上段にご記入ください）",null,null,null,null,null,null,null,null,null,null,null,"作（訳）詞者",null,null,null,null,null,"利用方法",null,null,"作（編）曲者",null,null,null,null,null,"演奏・歌唱者(団体）名\n(CD・ﾃｰﾌﾟのﾌﾟﾛ歌手名)",null,null,null,null,"演奏\n時間",null,"演奏\n回数",null,"みなし曲数",null,"使　用　料\n（作品バリュー）",null,null,null,null,null,"s","作品コード"]
[null,null,null,null,null,null,null,null,null,null,null,null,null,null,null,null,null,null,null,null,null,null,null,null,null,null,null,null,null,null,null,null,null,null,null,null,null,null,"（作品バリュー）"]
[1,null,null,null,null,null,null,null,null,null,null,null,null,null,null,null,null,null,"３.器楽のみ","１．原詞",null,null,null,null,null,null,null,null,null,null,null,null,null,null,{"$f":"COUNTA(B14)","v":0}]
[null,null,null,null,null,null,null,null,null,null,null,null,null,null,null,null,null,null,null,"２．訳詞",null,null,null,null,null,null,null,"（　　　　　　　　　　）",null,null,null,null,"分",null,"回"]
[2,null,null,null,null,null,null,null,null,null,null,null,null,null,null,null,null,null,"３.器楽のみ","１．原詞",null,null,null,null,null,null,null,null,null,null,null,null,null,null,{"$f":"COUNTA(B16)","v":0}]
[null,null,null,null,null,null,null,null,null,null,null,null,null,null,null,null,null,null,null,"２．訳詞",null,null,null,null,null,null,null,"（　　　　　　　　　　）",null,null,null,null,"分",null,"回"]
[3,null,null,null,null,null,null,null,null,null,null,null,null,null,null,null,null,null,"３.器楽のみ","１．原詞",null,null,null,null,null,null,null,null,null,null,null,null,null,null,{"$f":"COUNTA(B18)","v":0}]
[null,null,null,null,null,null,null,null,null,null,null,null,null,null,null,null,null,null,null,"２．訳詞",null,null,null,null,null,null,null,"（　　　　　　　　　　）",null,null,null,null,"分",null,"回"]
[4,null,null,null,null,null,null,null,null,null,null,null,null,null,null,null,null,null,"３.器楽のみ","１．原詞",null,null,null,null,null,null,null,null,null,null,null,null,null,null,{"$f":"COUNTA(B20)","v":0}]
[null,null,null,null,null,null,null,null,null,null,null,null,null,null,null,null,null,null,null,"２．訳詞",null,null,null,null,null,null,null,"（　　　　　　　　　　）",null,null,null,null,"分",null,"回"]
[5,null,null,null,null,null,null,null,null,null,null,null,null,null,null,null,null,null,"３.器楽のみ","１．原詞",null,null,null,null,null,null,null,null,null,null,null,null,null,null,{"$f":"COUNTA(B22)","v":0}]
[null,null,null,null,null,null,null,null,null,null,null,null,null,null,null,null,null,null,null,"２．訳詞",null,null,null,null,null,null,null,"（　　　　　　　　　　）",null,null,null,null,"分",null,"回"]
[6,null,null,null,null,null,null,null,null,null,null,null,null,null,null,null,null,null,"３.器楽のみ","１．原詞",null,null,null,null,null,null,null,null,null,null,null,null,null,null,{"$f":"COUNTA(B24)","v":0}]
[null,null,null,null,null,null,null,null,null,null,null,null,null,null,null,null,null,null,null,"２．訳詞",null,null,null,null,null,null,null,"（　　　　　　　　　　）",null,null,null,null,"分",null,"回"]
[7,null,null,null,null,null,null,null,null,null,null,null,null,null,null,null,null,null,"３.器楽のみ","１．原詞",null,null,null,null,null,null,null,null,null,null,null,null,null,null,{"$f":"COUNTA(B26)","v":0}]
[null,null,null,null,null,null,null,null,null,null,null,null,null,null,null,null,null,null,null,"２．訳詞",null,null,null,null,null,null,null,"（　　　　　　　　　　）",null,null,null,null,"分",null,"回"]
[8,null,null,null,null,null,null,null,null,null,null,null,null,null,null,null,null,null,"３.器楽のみ","１．原詞",null,null,null,null,null,null,null,null,null,null,null,null,null,null,{"$f":"COUNTA(B28)","v":0}]
[null,null,null,null,null,null,null,null,null,null,null,null,null,null,null,null,null,null,null,"２．訳詞",null,null,null,null,null,null,null,"（　　　　　　　　　　）",null,null,null,null,"分",null,"回"]
[9,null,null,null,null,null,null,null,null,null,null,null,null,null,null,null,null,null,"３.器楽のみ","１．原詞",null,null,null,null,null,null,null,null,null,null,null,null,null,null,{"$f":"COUNTA(B30)","v":0}]
[null,null,null,null,null,null,null,null,null,null,null,null,null,null,null,null,null,null,null,"２．訳詞",null,null,null,null,null,null,null,"（　　　　　　　　　　）",null,null,null,null,"分",null,"回"]
[10,null,null,null,null,null,null,null,null,null,null,null,null,null,null,null,null,null,"３.器楽のみ","１．原詞",null,null,null,null,null,null,null,null,null,null,null,null,null,null,{"$f":"COUNTA(B32)","v":0}]
[null,null,null,null,null,null,null,null,null,null,null,null,null,null,null,null,null,null,null,"２．訳詞",null,null,null,null,null,null,null,"（　　　　　　　　　　）",null,null,null,null,"分",null,"回"]
["※メドレー、又は組曲を抜粋して利用する場合は1曲ごとにご記入ください。",null,null,null,null,null,null,null,null,null,null,null,null,null,null,null,null,"Ｎ・Ｍ･･･当協会管理外　　Ｐ・Ｄ･･･著作権消滅",null,null,null,null,null,null,null,null,null,null,null,null,null,"小計",null,null,null,null,null,null,null,null,null,null,null,null,null,9,9,9,9,9,9,9,9]
[null,null,null,null,null,null,null,null,null,null,null,null,null,null,null,null,null,null,"請求日",null,null,null,null,null,null,null,null,null,null,null,null,"消費税相当額",null,null,null,null,null,null,null,null,null,null,null,null,"請求書番号"]
[null,"JASRAC",null,null,null,null,null,null,null,null,null,null,null,null,null,null,null,null,"種目\n規定区分",null,null,"Ａ",null,null,null,null,null,null,null,null,null,"合計"]

{"sheet":"演奏利用明細書記入例","index":4,"n_rows":36,"n_cols":53,"rows_kept":36,"cut":false,"hidden":false,"merged":[[3,33,4,37],[3,38,4,42],[3,43,6,43],[3,44,9,52],[5,29,6,32],[5,33,6,37],[5,38,9,42],[0,4,0,12],[1,1,1,2],[1,4,2,6],[1,7,2,13],[1,16,2,35],[3,0,5,2],[3,3,5,14],[3,15,5,17],[3,18,5,28],[3,29,4,32],[6,18,7,28],[7,29,9,32],[7,33,9,37],[7,43,9,43],[8,3,9,3],[8,4,9,10],[8,18,9,28],[6,0,9,2],[6,3,7,3],[6,4,7,10],[6,11,9,12],[6,13,9,14],[6,15,9,17],[11,44,12,44],[11,45,12,52],[11,53,12,53],[12,38,12,43],[11,0,12,11],[11,12,12,17],[11,18,12,20],[11,21,12,26],[11,27,12,31],[11,32,12,33],[13,39,14,39],[13,40,14,40],[13,0,14,0],[13,12,13,17],[13,18,14,18],[13,19,13,20],[13,21,13,26],[13,27,13,31],[11,34,12,35],[11,36,12,37],[11,38,11,43],[13,53,14,53],[14,1,14,11],[14,12,14,17],[14,19,14,20],[14,21,14,26],[14,27,14,31],[14,32,14,33],[14,34,14,35],[13,47,14,47],[13,48,14,48],[13,49,14,49],[13,50,14,50],[13,51,14,51],[13,52,14,52],[13,41,14,41],[13,42,14,42],[13,43,14,43],[13,44,14,44],[13,45,14,45],[13,46,14,46],[13,32,13,33],[13,34,13,35],[13,36,14,37],[13,38,14,38],[15,45,16,45],[15,46,16,46],[15,32,15,33],[15,34,15,35],[15,36,16,37],[15,38,16,38],[15,39,16,39],[15,40,16,40],[15,0,16,0],[15,12,15,17],[15,18,16,18],[15,19,15,20],[15,21,15,26],[15,27,15,31],[17,0,18,0],[17,12,17,17],[17,18,18,18],[17,19,17,20],[17,21,17,26],[17,27,17,31],[15,53,16,53],[16,1,16,11],[16,12,16,17],[16,19,16,20],[16,21,16,26],[16,27,16,31],[16,32,16,33],[16,34,16,35],[15,47,16,47],[15,48,16,48],[15,49,16,49],[15,50,16,50],[15,51,16,51],[15,52,16,52],[15,41,16,41],[15,42,16,42],[15,43,16,43],[15,44,16,44],[17,43,18,43],[17,44,18,44],[17,45,18,45],[17,46,18,46],[17,32,17,33],[17,34,17,35],[17,36,18,37],[17,38,18,38],[17,39,18,39],[17,40,18,40],[19,39,20,39],[19,40,20,40],[19,0,20,0],[19,12,19,17],[19,18,20,18],[19,19,19,20],[19,21,19,26],[19,27,19,31],[17,53,18,53],[18,1,18,11],[18,12,18,17],[18,19,18,20],[18,21,18,26],[18,27,18,31],[18,32,18,33],[18,34,18,35],[17,47,18,47],[17,48,18,48],[17,49,18,49],[17,50,18,50],[17,51,18,51],[17,52,18,52],[17,41,18,41],[17,42,18,42],[19,53,20,53],[20,1,20,11],[20,12,20,17],[20,19,20,20],[20,21,20,26],[20,27,20,31],[20,32,20,33],[20,34,20,35],[19,47,20,47],[19,48,20,48],[19,49,20,49],[19,50,20,50],[19,51,20,51],[19,52,20,52],[19,41,20,41],[19,42,20,42],[19,43,20,43],[19,44,20,44],[19,45,20,45],[19,46,20,46],[19,32,19,33],[19,34,19,35],[19,36,20,37],[19,38,20,38],[21,45,22,45],[21,46,22,46],[21,32,21,33],[21,34,21,35],[21,36,22,37],[21,38,22,38],[21,39,22,39],[21,40,22,40],[21,0,22,0],[21,12,21,17],[21,18,22,18],[21,19,21,20],[21,21,21,26],[21,27,21,31],[23,0,24,0],[23,12,23,17],[23,18,24,18],[23,19,23,20],[23,21,23,26],[23,27,23,31],[21,53,22,53],[22,1,22,11],[22,12,22,17],[22,19,22,20],[22,21,22,26],[22,27,22,31],[22,32,22,33],[22,34,22,35],[21,47,22,47],[21,48,22,48],[21,49,22,49],[21,50,22,50],[21,51,22,51],[21,52,22,52],[21,41,22,41],[21,42,22,42],[21,43,22,43],[21,44,22,44],[23,43,24,43],[23,44,24,44],[23,45,24,45],[23,46,24,46],[23,32,23,33],[23,34,23,35],[23,36,24,37],[23,38,24,38],[23,39,24,39],[23,40,24,40],[25,39,26,39],[25,40,26,40],[25,0,26,0],[25,12,25,17],[25,18,26,18],[25,19,25,20],[25,21,25,26],[25,27,25,31],[23,53,24,53],[24,1,24,11],[24,12,24,17],[24,19,24,20],[24,21,24,26],[24,27,24,31],[24,32,24,33],[24,34,24,35],[23,47,24,47],[23,48,24,48],[23,49,24,49],[23,50,24,50],[23,51,24,51],[23,52,24,52],[23,41,24,41],[23,42,24,42],[25,53,26,53],[26,1,26,11],[26,12,26,17],[26,19,26,20],[26,21,26,26],[26,27,26,31],[26,32,26,33],[26,34,26,35],[25,47,26,47],[25,48,26,48],[25,49,26,49],[25,50,26,50],[25,51,26,51],[25,52,26,52],[25,41,26,41],[25,42,26,42],[25,43,26,43],[25,44,26,44],[25,45,26,45],[25,46,26,46],[25,32,25,33],[25,34,25,35],[25,36,26,37],[25,38,26,38],[27,45,28,45],[27,46,28,46],[27,32,27,33],[27,34,27,35],[27,36,28,37],[27,38,28,38],[27,39,28,39],[27,40,28,40],[27,0,28,0],[27,12,27,17],[27,18,28,18],[27,19,27,20],[27,21,27,26],[27,27,27,31],[29,0,30,0],[29,12,29,17],[29,18,30,18],[29,19,29,20],[29,21,29,26],[29,27,29,31],[27,53,28,53],[28,1,28,11],[28,12,28,17],[28,19,28,20],[28,21,28,26],[28,27,28,31],[28,32,28,33],[28,34,28,35],[27,47,28,47],[27,48,28,48],[27,49,28,49],[27,50,28,50],[27,51,28,51],[27,52,28,52],[27,41,28,41],[27,42,28,42],[27,43,28,43],[27,44,28,44],[29,43,30,43],[29,44,30,44],[29,45,30,45],[29,46,30,46],[29,32,29,33],[29,34,29,35],[29,36,30,37],[29,38,30,38],[29,39,30,39],[29,40,30,40],[31,39,32,39],[31,40,32,40],[31,0,32,0],[31,12,31,17],[31,18,32,18],[31,19,31,20],[31,21,31,26],[31,27,31,31],[29,53,30,53],[30,1,30,11],[30,12,30,17],[30,19,30,20],[30,21,30,26],[30,27,30,31],[30,32,30,33],[30,34,30,35],[29,47,30,47],[29,48,30,48],[29,49,30,49],[29,50,30,50],[29,51,30,51],[29,52,30,52],[29,41,30,41],[29,42,30,42],[31,53,32,53],[32,1,32,11],[32,12,32,17],[32,19,32,20],[32,21,32,26],[32,27,32,31],[32,32,32,33],[32,34,32,35],[31,47,32,47],[31,48,32,48],[31,49,32,49],[31,50,32,50],[31,51,32,51],[31,52,32,52],[31,41,32,41],[31,42,32,42],[31,43,32,43],[31,44,32,44],[31,45,32,45],[31,46,32,46],[31,32,31,33],[31,34,31,35],[31,36,32,37],[31,38,32,38],[33,17,33,27],[33,31,33,34],[34,18,34,20],[34,31,34,34],[34,44,34,52],[35,1,35,5],[35,18,35,20],[35,22,35,23],[35,31,35,34]]}
[null,null,null,null,"＊太線の枠内のみ記入してください。",null,null,null,null,null,null,null,null,null,null,null,null,null,null,null,null,null,null,null,null,null,null,null,null,null,null,null,null,null,null,null,null,null,null,null,null,null,null,"エントリー№"]
["No.",null,null,null,"提出日",null,null,"2023  年     月      日",null,null,null,null,null,null,null,null,"演　奏　利　用　明　細　書　　　　　　　　　　　　　　　　　　　"]
[]
["催物名",null,null,"第59回茨城県マーチングフェスティバル",null,null,null,null,null,null,null,null,null,null,null,"会場名",null,null,"かみす防災アリーナ",null,null,null,null,null,null,null,null,null,null,"公演回数",null,null,null,"1回",null,null,null,null,"平均入場料",null,null,null,null,"レコード"]
[]
[null,null,null,null,null,null,null,null,null,null,null,null,null,null,null,null,null,null,null,null,null,null,null,null,null,null,null,null,null,"公演所要時間",null,null,null,"240分",null,null,null,null,"円"]
["開催日",null,null,"自","2023-08-20",null,null,null,null,null,null,1,null,"日間",null,"お申込者名",null,null,"茨城県マーチングバンド協会"]
[null,null,null,null,null,null,null,null,null,null,null,null,null,null,null,null,null,null,null,null,null,null,null,null,null,null,null,null,null,"会場の定員数",null,null,null,"1600名",null,null,null,null,null,null,null,null,null,"適"]
[null,null,null,"至","2023-08-20",null,null,null,null,null,null,null,null,null,null,null,null,null,"TEL （  029  ） 267  －  7350          "]
[]
[]
["演奏曲目（上段にご記入ください）",null,null,null,null,null,null,null,null,null,null,null,"作（訳）詞者",null,null,null,null,null,"利用方法",null,null,"作（編）曲者",null,null,null,null,null,"演奏・歌唱者(団体）名\n(CD・ﾃｰﾌﾟのﾌﾟﾛ歌手名)",null,null,null,null,"演奏\n時間",null,"演奏\n回数",null,"みなし曲数",null,"使　用　料\n（作品バリュー）",null,null,null,null,null,"s","作品コード"]
[null,null,null,null,null,null,null,null,null,null,null,null,null,null,null,null,null,null,null,null,null,null,null,null,null,null,null,null,null,null,null,null,null,null,null,null,null,null,"（作品バリュー）"]
[1,"Ｒｅｕｎｉｏｎ，Ｔｈｅｍｅ of Joker Game",null,null,null,null,null,null,null,null,null,null,null,null,null,null,null,null,"３.器楽のみ","１．原詞",null,"岩崎　太整",null,null,null,null,null,null,null,null,null,null,"2",null,1]
[null,null,null,null,null,null,null,null,null,null,null,null,null,null,null,null,null,null,null,"２．訳詞",null,"（中山　大輔）",null,null,null,null,null,"（　　　　　　　　　　）",null,null,null,null,"分",null,"回"]
[2,"Huge Fight,Quiet Fight",null,null,null,null,null,null,null,null,null,null,null,null,null,null,null,null,"３･器楽のみ","１．原詞",null,"岩崎　太整",null,null,null,null,null,null,null,null,null,null,"2",null,1]
[null,null,null,null,null,null,null,null,null,null,null,null,null,null,null,null,null,null,null,"２．訳詞",null,"（中山　大輔）",null,null,null,null,null,"（　　　　　　　　　　）",null,null,null,null,"分",null,"回"]
[3,"JAWS／SUPERMAN",null,null,null,null,null,null,null,null,null,null,null,null,null,null,null,null,"３･器楽のみ","１．原詞",null,"JOHN　WILLIAMS",null,null,null,null,null,null,null,null,null,null,"2",null,1]
[null,null,null,null,null,null,null,null,null,null,null,null,null,null,null,null,null,null,null,"２．訳詞",null,"（JOHNNIE　VINSON）",null,null,null,null,null,"（　　　　　　　　　　）",null,null,null,null,"分",null,"回"]
[4,"交響曲第二　復活　禿山の一夜",null,null,null,null,null,null,null,null,null,null,null,null,null,null,null,null,"３･器楽のみ","１．原詞",null,"ムソルグスキー",null,null,null,null,null,null,null,null,null,null,"2",null,1]
[null,null,null,null,null,null,null,null,null,null,null,null,null,null,null,null,null,null,null,"２．訳詞",null,"（樋口  勉）",null,null,null,null,null,"（　　　　　　　　　　）",null,null,null,null,"分",null,"回"]
[5,"勝利の父",null,null,null,null,null,null,null,null,null,null,null,null,null,null,null,null,"３･器楽のみ","１．原詞",null,"ガンヌ",null,null,null,null,null,null,null,null,null,null,"3",null,1]
[null,null,null,null,null,null,null,null,null,null,null,null,null,null,null,null,null,null,null,"２．訳詞",null,null,null,null,null,null,null,"（　　　　　　　　　　）",null,null,null,null,"分",null,"回"]
[6,null,null,null,null,null,null,null,null,null,null,null,null,null,null,null,null,null,"３･器楽のみ","１．原詞"]
[null,null,null,null,null,null,null,null,null,null,null,null,null,null,null,null,null,null,null,"２．訳詞",null,null,null,null,null,null,null,"（　　　　　　　　　　）",null,null,null,null,"分",null,"回"]
[7,null,null,null,null,null,null,null,null,null,null,null,null,null,null,null,null,null,"３･器楽のみ","１．原詞"]
[null,null,null,null,null,null,null,null,null,null,null,null,null,null,null,null,null,null,null,"２．訳詞",null,null,null,null,null,null,null,"（　　　　　　　　　　）",null,null,null,null,"分",null,"回"]
[8,null,null,null,null,null,null,null,null,null,null,null,null,null,null,null,null,null,"３･器楽のみ","１．原詞"]
[null,null,null,null,null,null,null,null,null,null,null,null,null,null,null,null,null,null,null,"２．訳詞",null,null,null,null,null,null,null,"（　　　　　　　　　　）",null,null,null,null,"分",null,"回"]
[9,null,null,null,null,null,null,null,null,null,null,null,null,null,null,null,null,null,"３･器楽のみ","１．原詞"]
[null,null,null,null,null,null,null,null,null,null,null,null,null,null,null,null,null,null,null,"２．訳詞",null,null,null,null,null,null,null,"（　　　　　　　　　　）",null,null,null,null,"分",null,"回"]
[10,null,null,null,null,null,null,null,null,null,null,null,null,null,null,null,null,null,"３･器楽のみ","１．原詞"]
[null,null,null,null,null,null,null,null,null,null,null,null,null,null,null,null,null,null,null,"２．訳詞",null,null,null,null,null,null,null,"（　　　　　　　　　　）",null,null,null,null,"分",null,"回"]
["※メドレー、又は組曲を抜粋して利用する場合は1曲ごとにご記入ください。",null,null,null,null,null,null,null,null,null,null,null,null,null,null,null,null,"Ｎ・Ｍ･･･当協会管理外　　Ｐ・Ｄ･･･著作権消滅",null,null,null,null,null,null,null,null,null,null,null,null,null,"小計",null,null,null,null,null,null,null,null,null,null,null,null,null,9,9,9,9,9,9,9,9]
[null,null,null,null,null,null,null,null,null,null,null,null,null,null,null,null,null,null,"請求日",null,null,null,null,null,null,null,null,null,null,null,null,"消費税相当額",null,null,null,null,null,null,null,null,null,null,null,null,"請求書番号"]
[null,"JASRAC",null,null,null,null,null,null,null,null,null,null,null,null,null,null,null,null,"種目\n規定区分",null,null,"Ａ",null,null,null,null,null,null,null,null,null,"合計"]

{"sheet":"受付用","index":5,"n_rows":2,"n_cols":47,"rows_kept":2,"cut":false,"hidden":false,"merged":[[0,36,0,37],[0,38,0,39],[0,12,0,14],[0,23,0,27]]}
["№","予定\n時刻","ﾁｪｯｸ\nｲﾝ","団   体  名","部門","編成","部①","推薦希望","部②","推薦希望","人数","変更","〒",null,null,"住    所","電話","FAX","連絡責任者","連絡先電話","連絡先FAX","連絡先携帯","フロアリハ","手入力欄",null,null,null,null,"団体参加費","文字列団体","個人参加費","郵送料","合計","赤","黄","青","B",null,"T",null,"ﾌﾛｱﾘﾊ","器物","ピット","特効","EV","前日搬入","AC電源"]
[null,null,null,{"$f":"入力!B4","v":0},{"$f":"入力!B7","v":0},{"$f":"入力!B8","v":"高校生編成"},{"$f":"入力!C9","v":0},{"$f":"入力!C10","v":0},{"$f":"入力!H9","v":0},{"$f":"入力!H10","v":0},{"$f":"入力!E11","v":0},null,{"$f":"入力!C25","v":0},"-",{"$f":"入力!E25","v":0},{"$f":"入力!F25","v":0},{"$f":"入力!B26","v":0},{"$f":"入力!B27","v":0},{"$f":"入力!B29","v":0},{"$f":"入力!B30","v":0},{"$f":"入力!B31","v":0},{"$f":"入力!B32","v":0},{"$f":"入力!$B$16","v":0},null,null,null,null,null,{"$f":"印刷!H13","v":0},null,{"$f":"印刷!P14","v":0},500,{"$f":"AC2+AE2+AF2","v":500},{"$f":"入力!K13","v":0},{"$f":"入力!Q15","v":0},{"$f":"入力!E11","v":0},{"$f":"入力!B24","v":0},{"$f":"入力!D24","v":0},{"$f":"入力!B23","v":0},{"$f":"入力!D23","v":0},{"$f":"入力!B16","v":0},{"$f":"入力!B17","v":0},{"$f":"入力!B19","v":0},{"$f":"入力!B18","v":0},{"$f":"入力!$B$20","v":0},{"$f":"入力!$B$21","v":0},{"$f":"入力!$B$22","v":0}]

{"sheet":"プログラム用","index":6,"n_rows":12,"n_cols":3,"rows_kept":12,"cut":false,"hidden":false,"merged":[]}
[{"$f":"入力!B4","v":0}]
[{"$f":"入力!B132","v":0}]
[{"$f":"入力!C28","v":0},{"$f":"入力!F28","v":0}]
["指導者",{"$f":"入力!B133","v":0}]
[{"$f":"入力!C134","v":0},{"$f":"入力!F134","v":0}]
[{"$f":"入力!K134","v":0},{"$f":"入力!N134","v":0}]
[{"$f":"入力!S134","v":"SDM"},{"$f":"入力!V134","v":0}]
["演奏曲",{"$f":"入力!B137","v":0},{"$f":"入力!B142","v":0}]
[null,{"$f":"入力!B138","v":0},{"$f":"入力!B143","v":0}]
[null,{"$f":"入力!B139","v":0},{"$f":"入力!B144","v":0}]
[null,{"$f":"入力!B140","v":0},{"$f":"入力!B145","v":0}]
[null,{"$f":"入力!B141","v":0},{"$f":"入力!B146","v":0}]

{"sheet":"名簿","index":7,"n_rows":37,"n_cols":30,"rows_kept":37,"cut":false,"hidden":false,"merged":[[37,1,37,28],[39,1,39,28],[40,1,40,28],[6,7,6,9],[6,17,6,19],[6,27,6,29],[36,1,36,6],[36,11,36,16],[36,21,36,26],[35,1,35,6],[35,11,35,16],[35,21,35,26],[34,1,34,6],[34,11,34,16],[34,21,34,26],[33,1,33,6],[33,11,33,16],[33,21,33,26],[32,1,32,6],[32,11,32,16],[32,21,32,26],[31,1,31,6],[31,11,31,16],[31,21,31,26],[30,1,30,6],[30,11,30,16],[30,21,30,26],[29,1,29,6],[29,11,29,16],[29,21,29,26],[28,1,28,6],[28,11,28,16],[28,21,28,26],[27,1,27,6],[27,11,27,16],[27,21,27,26],[26,1,26,6],[26,11,26,16],[26,21,26,26],[25,1,25,6],[25,11,25,16],[25,21,25,26],[24,1,24,6],[24,11,24,16],[24,21,24,26],[23,1,23,6],[23,11,23,16],[23,21,23,26],[22,1,22,6],[22,11,22,16],[22,21,22,26],[21,1,21,6],[21,11,21,16],[21,21,21,26],[20,1,20,6],[20,11,20,16],[20,21,20,26],[19,1,19,6],[19,11,19,16],[19,21,19,26],[18,1,18,6],[18,11,18,16],[18,21,18,26],[17,1,17,6],[17,11,17,16],[17,21,17,26],[16,1,16,6],[16,11,16,16],[16,21,16,26],[15,1,15,6],[15,11,15,16],[15,21,15,26],[14,1,14,6],[14,11,14,16],[14,21,14,26],[13,1,13,6],[13,11,13,16],[13,21,13,26],[12,1,12,6],[12,11,12,16],[12,21,12,26],[11,1,11,6],[11,11,11,16],[11,21,11,26],[10,1,10,6],[10,11,10,16],[10,21,10,26],[0,0,1,29],[2,0,2,2],[2,3,2,29],[3,0,5,2],[3,3,5,29],[6,1,6,6],[6,11,6,16],[6,21,6,26],[9,1,9,6],[9,11,9,16],[9,21,9,26],[8,1,8,6],[8,11,8,16],[8,21,8,26],[7,1,7,6],[7,11,7,16],[7,21,7,26]]}
["茨城県マーチングフェスティバル出演者登録名簿"]
[]
["ふりがな",null,null,{"$f":"入力!B5","v":0}]
["団体名",null,null,{"$f":"入力!B4","v":0}]
[]
[]
["№","氏名",null,null,null,null,null,"年齢/学年",null,null,"№","氏名",null,null,null,null,null,"年齢/学年",null,null,"№","氏名",null,null,null,null,null,"年齢/学年"]
[1,{"$f":"入力!C37","v":0},null,null,null,null,null,{"$f":"入力!I37","v":0},"／",{"$f":"入力!J37","v":0},31,{"$f":"入力!C67","v":0},null,null,null,null,null,{"$f":"入力!I67","v":0},"／",{"$f":"入力!J67","v":0},61,{"$f":"入力!C97","v":0},null,null,null,null,null,{"$f":"入力!I97","v":0},"／",{"$f":"入力!J97","v":0}]
[2,{"$f":"入力!C38","v":0},null,null,null,null,null,{"$f":"入力!I38","v":0},"／",{"$f":"入力!J38","v":0},32,{"$f":"入力!C68","v":0},null,null,null,null,null,{"$f":"入力!I68","v":0},"／",{"$f":"入力!J68","v":0},62,{"$f":"入力!C98","v":0},null,null,null,null,null,{"$f":"入力!I98","v":0},"／",{"$f":"入力!J98","v":0}]
[3,{"$f":"入力!C39","v":0},null,null,null,null,null,{"$f":"入力!I39","v":0},"／",{"$f":"入力!J39","v":0},33,{"$f":"入力!C69","v":0},null,null,null,null,null,{"$f":"入力!I69","v":0},"／",{"$f":"入力!J69","v":0},63,{"$f":"入力!C99","v":0},null,null,null,null,null,{"$f":"入力!I99","v":0},"／",{"$f":"入力!J99","v":0}]
[4,{"$f":"入力!C40","v":0},null,null,null,null,null,{"$f":"入力!I40","v":0},"／",{"$f":"入力!J40","v":0},34,{"$f":"入力!C70","v":0},null,null,null,null,null,{"$f":"入力!I70","v":0},"／",{"$f":"入力!J70","v":0},64,{"$f":"入力!C100","v":0},null,null,null,null,null,{"$f":"入力!I100","v":0},"／",{"$f":"入力!J100","v":0}]
[5,{"$f":"入力!C41","v":0},null,null,null,null,null,{"$f":"入力!I41","v":0},"／",{"$f":"入力!J41","v":0},35,{"$f":"入力!C71","v":0},null,null,null,null,null,{"$f":"入力!I71","v":0},"／",{"$f":"入力!J71","v":0},65,{"$f":"入力!C101","v":0},null,null,null,null,null,{"$f":"入力!I101","v":0},"／",{"$f":"入力!J101","v":0}]
[6,{"$f":"入力!C42","v":0},null,null,null,null,null,{"$f":"入力!I42","v":0},"／",{"$f":"入力!J42","v":0},36,{"$f":"入力!C72","v":0},null,null,null,null,null,{"$f":"入力!I72","v":0},"／",{"$f":"入力!J72","v":0},66,{"$f":"入力!C102","v":0},null,null,null,null,null,{"$f":"入力!I102","v":0},"／",{"$f":"入力!J102","v":0}]
[7,{"$f":"入力!C43","v":0},null,null,null,null,null,{"$f":"入力!I43","v":0},"／",{"$f":"入力!J43","v":0},37,{"$f":"入力!C73","v":0},null,null,null,null,null,{"$f":"入力!I73","v":0},"／",{"$f":"入力!J73","v":0},67,{"$f":"入力!C103","v":0},null,null,null,null,null,{"$f":"入力!I103","v":0},"／",{"$f":"入力!J103","v":0}]
[8,{"$f":"入力!C44","v":0},null,null,null,null,null,{"$f":"入力!I44","v":0},"／",{"$f":"入力!J44","v":0},38,{"$f":"入力!C74","v":0},null,null,null,null,null,{"$f":"入力!I74","v":0},"／",{"$f":"入力!J74","v":0},68,{"$f":"入力!C104","v":0},null,null,null,null,null,{"$f":"入力!I104","v":0},"／",{"$f":"入力!J104","v":0}]
[9,{"$f":"入力!C45","v":0},null,null,null,null,null,{"$f":"入力!I45","v":0},"／",{"$f":"入力!J45","v":0},39,{"$f":"入力!C75","v":0},null,null,null,null,null,{"$f":"入力!I75","v":0},"／",{"$f":"入力!J75","v":0},69,{"$f":"入力!C105","v":0},null,null,null,null,null,{"$f":"入力!I105","v":0},"／",{"$f":"入力!J105","v":0}]
[10,{"$f":"入力!C46","v":0},null,null,null,null,null,{"$f":"入力!I46","v":0},"／",{"$f":"入力!J46","v":0},40,{"$f":"入力!C76","v":0},null,null,null,null,null,{"$f":"入力!I76","v":0},"／",{"$f":"入力!J76","v":0},70,{"$f":"入力!C106","v":0},null,null,null,null,null,{"$f":"入力!I106","v":0},"／",{"$f":"入力!J106","v":0}]
[11,{"$f":"入力!C47","v":0},null,null,null,null,null,{"$f":"入力!I47","v":0},"／",{"$f":"入力!J47","v":0},41,{"$f":"入力!C77","v":0},null,null,null,null,null,{"$f":"入力!I77","v":0},"／",{"$f":"入力!J77","v":0},71,{"$f":"入力!C107","v":0},null,null,null,null,null,{"$f":"入力!I107","v":0},"／",{"$f":"入力!J107","v":0}]
[12,{"$f":"入力!C48","v":0},null,null,null,null,null,{"$f":"入力!I48","v":0},"／",{"$f":"入力!J48","v":0},42,{"$f":"入力!C78","v":0},null,null,null,null,null,{"$f":"入力!I78","v":0},"／",{"$f":"入力!J78","v":0},72,{"$f":"入力!C108","v":0},null,null,null,null,null,{"$f":"入力!I108","v":0},"／",{"$f":"入力!J108","v":0}]
[13,{"$f":"入力!C49","v":0},null,null,null,null,null,{"$f":"入力!I49","v":0},"／",{"$f":"入力!J49","v":0},43,{"$f":"入力!C79","v":0},null,null,null,null,null,{"$f":"入力!I79","v":0},"／",{"$f":"入力!J79","v":0},73,{"$f":"入力!C109","v":0},null,null,null,null,null,{"$f":"入力!I109","v":0},"／",{"$f":"入力!J109","v":0}]
[14,{"$f":"入力!C50","v":0},null,null,null,null,null,{"$f":"入力!I50","v":0},"／",{"$f":"入力!J50","v":0},44,{"$f":"入力!C80","v":0},null,null,null,null,null,{"$f":"入力!I80","v":0},"／",{"$f":"入力!J80","v":0},74,{"$f":"入力!C110","v":0},null,null,null,null,null,{"$f":"入力!I110","v":0},"／",{"$f":"入力!J110","v":0}]
[15,{"$f":"入力!C51","v":0},null,null,null,null,null,{"$f":"入力!I51","v":0},"／",{"$f":"入力!J51","v":0},45,{"$f":"入力!C81","v":0},null,null,null,null,null,{"$f":"入力!I81","v":0},"／",{"$f":"入力!J81","v":0},75,{"$f":"入力!C111","v":0},null,null,null,null,null,{"$f":"入力!I111","v":0},"／",{"$f":"入力!J111","v":0}]
[16,{"$f":"入力!C52","v":0},null,null,null,null,null,{"$f":"入力!I52","v":0},"／",{"$f":"入力!J52","v":0},46,{"$f":"入力!C82","v":0},null,null,null,null,null,{"$f":"入力!I82","v":0},"／",{"$f":"入力!J82","v":0},76,{"$f":"入力!C112","v":0},null,null,null,null,null,{"$f":"入力!I112","v":0},"／",{"$f":"入力!J112","v":0}]
[17,{"$f":"入力!C53","v":0},null,null,null,null,null,{"$f":"入力!I53","v":0},"／",{"$f":"入力!J53","v":0},47,{"$f":"入力!C83","v":0},null,null,null,null,null,{"$f":"入力!I83","v":0},"／",{"$f":"入力!J83","v":0},77,{"$f":"入力!C113","v":0},null,null,null,null,null,{"$f":"入力!I113","v":0},"／",{"$f":"入力!J113","v":0}]
[18,{"$f":"入力!C54","v":0},null,null,null,null,null,{"$f":"入力!I54","v":0},"／",{"$f":"入力!J54","v":0},48,{"$f":"入力!C84","v":0},null,null,null,null,null,{"$f":"入力!I84","v":0},"／",{"$f":"入力!J84","v":0},78,{"$f":"入力!C114","v":0},null,null,null,null,null,{"$f":"入力!I114","v":0},"／",{"$f":"入力!J114","v":0}]
[19,{"$f":"入力!C55","v":0},null,null,null,null,null,{"$f":"入力!I55","v":0},"／",{"$f":"入力!J55","v":0},49,{"$f":"入力!C85","v":0},null,null,null,null,null,{"$f":"入力!I85","v":0},"／",{"$f":"入力!J85","v":0},79,{"$f":"入力!C115","v":0},null,null,null,null,null,{"$f":"入力!I115","v":0},"／",{"$f":"入力!J115","v":0}]
[20,{"$f":"入力!C56","v":0},null,null,null,null,null,{"$f":"入力!I56","v":0},"／",{"$f":"入力!J56","v":0},50,{"$f":"入力!C86","v":0},null,null,null,null,null,{"$f":"入力!I86","v":0},"／",{"$f":"入力!J86","v":0},80,{"$f":"入力!C116","v":0},null,null,null,null,null,{"$f":"入力!I116","v":0},"／",{"$f":"入力!J116","v":0}]
[21,{"$f":"入力!C57","v":0},null,null,null,null,null,{"$f":"入力!I57","v":0},"／",{"$f":"入力!J57","v":0},51,{"$f":"入力!C87","v":0},null,null,null,null,null,{"$f":"入力!I87","v":0},"／",{"$f":"入力!J87","v":0},81,{"$f":"入力!C117","v":0},null,null,null,null,null,{"$f":"入力!I117","v":0},"／",{"$f":"入力!J117","v":0}]
[22,{"$f":"入力!C58","v":0},null,null,null,null,null,{"$f":"入力!I58","v":0},"／",{"$f":"入力!J58","v":0},52,{"$f":"入力!C88","v":0},null,null,null,null,null,{"$f":"入力!I88","v":0},"／",{"$f":"入力!J88","v":0},82,{"$f":"入力!C118","v":0},null,null,null,null,null,{"$f":"入力!I118","v":0},"／",{"$f":"入力!J118","v":0}]
[23,{"$f":"入力!C59","v":0},null,null,null,null,null,{"$f":"入力!I59","v":0},"／",{"$f":"入力!J59","v":0},53,{"$f":"入力!C89","v":0},null,null,null,null,null,{"$f":"入力!I89","v":0},"／",{"$f":"入力!J89","v":0},83,{"$f":"入力!C119","v":0},null,null,null,null,null,{"$f":"入力!I119","v":0},"／",{"$f":"入力!J119","v":0}]
[24,{"$f":"入力!C60","v":0},null,null,null,null,null,{"$f":"入力!I60","v":0},"／",{"$f":"入力!J60","v":0},54,{"$f":"入力!C90","v":0},null,null,null,null,null,{"$f":"入力!I90","v":0},"／",{"$f":"入力!J90","v":0},84,{"$f":"入力!C120","v":0},null,null,null,null,null,{"$f":"入力!I120","v":0},"／",{"$f":"入力!J120","v":0}]
[25,{"$f":"入力!C61","v":0},null,null,null,null,null,{"$f":"入力!I61","v":0},"／",{"$f":"入力!J61","v":0},55,{"$f":"入力!C91","v":0},null,null,null,null,null,{"$f":"入力!I91","v":0},"／",{"$f":"入力!J91","v":0},85,{"$f":"入力!C121","v":0},null,null,null,null,null,{"$f":"入力!I121","v":0},"／",{"$f":"入力!J121","v":0}]
[26,{"$f":"入力!C62","v":0},null,null,null,null,null,{"$f":"入力!I62","v":0},"／",{"$f":"入力!J62","v":0},56,{"$f":"入力!C92","v":0},null,null,null,null,null,{"$f":"入力!I92","v":0},"／",{"$f":"入力!J92","v":0},86,{"$f":"入力!C122","v":0},null,null,null,null,null,{"$f":"入力!I122","v":0},"／",{"$f":"入力!J122","v":0}]
[27,{"$f":"入力!C63","v":0},null,null,null,null,null,{"$f":"入力!I63","v":0},"／",{"$f":"入力!J63","v":0},57,{"$f":"入力!C93","v":0},null,null,null,null,null,{"$f":"入力!I93","v":0},"／",{"$f":"入力!J93","v":0},87,{"$f":"入力!C123","v":0},null,null,null,null,null,{"$f":"入力!I123","v":0},"／",{"$f":"入力!J123","v":0}]
[28,{"$f":"入力!C64","v":0},null,null,null,null,null,{"$f":"入力!I64","v":0},"／",{"$f":"入力!J64","v":0},58,{"$f":"入力!C94","v":0},null,null,null,null,null,{"$f":"入力!I94","v":0},"／",{"$f":"入力!J94","v":0},88,{"$f":"入力!C124","v":0},null,null,null,null,null,{"$f":"入力!I124","v":0},"／",{"$f":"入力!J124","v":0}]
[29,{"$f":"入力!C65","v":0},null,null,null,null,null,{"$f":"入力!I65","v":0},"／",{"$f":"入力!J65","v":0},59,{"$f":"入力!C95","v":0},null,null,null,null,null,{"$f":"入力!I95","v":0},"／",{"$f":"入力!J95","v":0},89,{"$f":"入力!C125","v":0},null,null,null,null,null,{"$f":"入力!I125","v":0},"／",{"$f":"入力!J125","v":0}]
[30,{"$f":"入力!C66","v":0},null,null,null,null,null,{"$f":"入力!I66","v":0},"／",{"$f":"入力!J66","v":0},60,{"$f":"入力!C96","v":0},null,null,null,null,null,{"$f":"入力!I96","v":0},"／",{"$f":"入力!J96","v":0},90,{"$f":"入力!C126","v":0},null,null,null,null,null,{"$f":"入力!I126","v":0},"／",{"$f":"入力!J126","v":0}]

{"sheet":"名簿２","index":8,"n_rows":40,"n_cols":30,"rows_kept":40,"cut":false,"hidden":false,"merged":[[0,0,1,29],[2,0,2,2],[2,3,2,29],[3,0,5,2],[3,3,5,29],[6,1,6,6],[6,7,6,9],[6,11,6,16],[6,17,6,19],[6,21,6,26],[9,1,9,6],[9,11,9,16],[9,21,9,26],[10,1,10,6],[10,11,10,16],[10,21,10,26],[6,27,6,29],[7,1,7,6],[7,11,7,16],[7,21,7,26],[8,1,8,6],[8,11,8,16],[8,21,8,26],[13,1,13,6],[13,11,13,16],[13,21,13,26],[14,1,14,6],[14,11,14,16],[14,21,14,26],[11,1,11,6],[11,11,11,16],[11,21,11,26],[12,1,12,6],[12,11,12,16],[12,21,12,26],[17,1,17,6],[17,11,17,16],[17,21,17,26],[18,1,18,6],[18,11,18,16],[18,21,18,26],[15,1,15,6],[15,11,15,16],[15,21,15,26],[16,1,16,6],[16,11,16,16],[16,21,16,26],[21,1,21,6],[21,11,21,16],[21,21,21,26],[22,1,22,6],[22,11,22,16],[22,21,22,26],[19,1,19,6],[19,11,19,16],[19,21,19,26],[20,1,20,6],[20,11,20,16],[20,21,20,26],[25,1,25,6],[25,11,25,16],[25,21,25,26],[26,1,26,6],[26,11,26,16],[26,21,26,26],[23,1,23,6],[23,11,23,16],[23,21,23,26],[24,1,24,6],[24,11,24,16],[24,21,24,26],[29,1,29,6],[29,11,29,16],[29,21,29,26],[30,1,30,6],[30,11,30,16],[30,21,30,26],[27,1,27,6],[27,11,27,16],[27,21,27,26],[28,1,28,6],[28,11,28,16],[28,21,28,26],[33,1,33,6],[33,11,33,16],[33,21,33,26],[34,1,34,6],[34,11,34,16],[34,21,34,26],[31,1,31,6],[31,11,31,16],[31,21,31,26],[32,1,32,6],[32,11,32,16],[32,21,32,26],[37,1,37,28],[39,1,39,28],[40,1,40,28],[35,1,35,6],[35,11,35,16],[35,21,35,26],[36,1,36,6],[36,11,36,16],[36,21,36,26]]}
["茨城県マーチングフェスティバル出演者登録名簿"]
[]
["ふりがな",null,null,{"$f":"入力!B5","v":0}]
["団体名",null,null,{"$f":"入力!B4","v":0}]
[]
[]
["№","氏名",null,null,null,null,null,"年齢/学年",null,null,"№","氏名",null,null,null,null,null,"年齢/学年",null,null,"№","氏名",null,null,null,null,null,"年齢/学年"]
[91,{"$f":"入力!P37","v":0},null,null,null,null,null,{"$f":"入力!V37","v":0},"／",{"$f":"入力!W37","v":0},121,{"$f":"入力!P67","v":0},null,null,null,null,null,{"$f":"入力!V67","v":0},"／",{"$f":"入力!W67","v":0},151,{"$f":"入力!P97","v":0},null,null,null,null,null,{"$f":"入力!V97","v":0},"／",{"$f":"入力!W97","v":0}]
[92,{"$f":"入力!P38","v":0},null,null,null,null,null,{"$f":"入力!V38","v":0},"／",{"$f":"入力!W38","v":0},122,{"$f":"入力!P68","v":0},null,null,null,null,null,{"$f":"入力!V68","v":0},"／",{"$f":"入力!W68","v":0},152,{"$f":"入力!P98","v":0},null,null,null,null,null,{"$f":"入力!V98","v":0},"／",{"$f":"入力!W98","v":0}]
[93,{"$f":"入力!P39","v":0},null,null,null,null,null,{"$f":"入力!V39","v":0},"／",{"$f":"入力!W39","v":0},123,{"$f":"入力!P69","v":0},null,null,null,null,null,{"$f":"入力!V69","v":0},"／",{"$f":"入力!W69","v":0},153,{"$f":"入力!P99","v":0},null,null,null,null,null,{"$f":"入力!V99","v":0},"／",{"$f":"入力!W99","v":0}]
[94,{"$f":"入力!P40","v":0},null,null,null,null,null,{"$f":"入力!V40","v":0},"／",{"$f":"入力!W40","v":0},124,{"$f":"入力!P70","v":0},null,null,null,null,null,{"$f":"入力!V70","v":0},"／",{"$f":"入力!W70","v":0},154,{"$f":"入力!P100","v":0},null,null,null,null,null,{"$f":"入力!V100","v":0},"／",{"$f":"入力!W100","v":0}]
[95,{"$f":"入力!P41","v":0},null,null,null,null,null,{"$f":"入力!V41","v":0},"／",{"$f":"入力!W41","v":0},125,{"$f":"入力!P71","v":0},null,null,null,null,null,{"$f":"入力!V71","v":0},"／",{"$f":"入力!W71","v":0},155,{"$f":"入力!P101","v":0},null,null,null,null,null,{"$f":"入力!V101","v":0},"／",{"$f":"入力!W101","v":0}]
[96,{"$f":"入力!P42","v":0},null,null,null,null,null,{"$f":"入力!V42","v":0},"／",{"$f":"入力!W42","v":0},126,{"$f":"入力!P72","v":0},null,null,null,null,null,{"$f":"入力!V72","v":0},"／",{"$f":"入力!W72","v":0},156,{"$f":"入力!P102","v":0},null,null,null,null,null,{"$f":"入力!V102","v":0},"／",{"$f":"入力!W102","v":0}]
[97,{"$f":"入力!P43","v":0},null,null,null,null,null,{"$f":"入力!V43","v":0},"／",{"$f":"入力!W43","v":0},127,{"$f":"入力!P73","v":0},null,null,null,null,null,{"$f":"入力!V73","v":0},"／",{"$f":"入力!W73","v":0},157,{"$f":"入力!P103","v":0},null,null,null,null,null,{"$f":"入力!V103","v":0},"／",{"$f":"入力!W103","v":0}]
[98,{"$f":"入力!P44","v":0},null,null,null,null,null,{"$f":"入力!V44","v":0},"／",{"$f":"入力!W44","v":0},128,{"$f":"入力!P74","v":0},null,null,null,null,null,{"$f":"入力!V74","v":0},"／",{"$f":"入力!W74","v":0},158,{"$f":"入力!P104","v":0},null,null,null,null,null,{"$f":"入力!V104","v":0},"／",{"$f":"入力!W104","v":0}]
[99,{"$f":"入力!P45","v":0},null,null,null,null,null,{"$f":"入力!V45","v":0},"／",{"$f":"入力!W45","v":0},129,{"$f":"入力!P75","v":0},null,null,null,null,null,{"$f":"入力!V75","v":0},"／",{"$f":"入力!W75","v":0},159,{"$f":"入力!P105","v":0},null,null,null,null,null,{"$f":"入力!V105","v":0},"／",{"$f":"入力!W105","v":0}]
[100,{"$f":"入力!P46","v":0},null,null,null,null,null,{"$f":"入力!V46","v":0},"／",{"$f":"入力!W46","v":0},130,{"$f":"入力!P76","v":0},null,null,null,null,null,{"$f":"入力!V76","v":0},"／",{"$f":"入力!W76","v":0},160,{"$f":"入力!P106","v":0},null,null,null,null,null,{"$f":"入力!V106","v":0},"／",{"$f":"入力!W106","v":0}]
[101,{"$f":"入力!P47","v":0},null,null,null,null,null,{"$f":"入力!V47","v":0},"／",{"$f":"入力!W47","v":0},131,{"$f":"入力!P77","v":0},null,null,null,null,null,{"$f":"入力!V77","v":0},"／",{"$f":"入力!W77","v":0},161,{"$f":"入力!P107","v":0},null,null,null,null,null,{"$f":"入力!V107","v":0},"／",{"$f":"入力!W107","v":0}]
[102,{"$f":"入力!P48","v":0},null,null,null,null,null,{"$f":"入力!V48","v":0},"／",{"$f":"入力!W48","v":0},132,{"$f":"入力!P78","v":0},null,null,null,null,null,{"$f":"入力!V78","v":0},"／",{"$f":"入力!W78","v":0},162,{"$f":"入力!P108","v":0},null,null,null,null,null,{"$f":"入力!V108","v":0},"／",{"$f":"入力!W108","v":0}]
[103,{"$f":"入力!P49","v":0},null,null,null,null,null,{"$f":"入力!V49","v":0},"／",{"$f":"入力!W49","v":0},133,{"$f":"入力!P79","v":0},null,null,null,null,null,{"$f":"入力!V79","v":0},"／",{"$f":"入力!W79","v":0},163,{"$f":"入力!P109","v":0},null,null,null,null,null,{"$f":"入力!V109","v":0},"／",{"$f":"入力!W109","v":0}]
[104,{"$f":"入力!P50","v":0},null,null,null,null,null,{"$f":"入力!V50","v":0},"／",{"$f":"入力!W50","v":0},134,{"$f":"入力!P80","v":0},null,null,null,null,null,{"$f":"入力!V80","v":0},"／",{"$f":"入力!W80","v":0},164,{"$f":"入力!P110","v":0},null,null,null,null,null,{"$f":"入力!V110","v":0},"／",{"$f":"入力!W110","v":0}]
[105,{"$f":"入力!P51","v":0},null,null,null,null,null,{"$f":"入力!V51","v":0},"／",{"$f":"入力!W51","v":0},135,{"$f":"入力!P81","v":0},null,null,null,null,null,{"$f":"入力!V81","v":0},"／",{"$f":"入力!W81","v":0},165,{"$f":"入力!P111","v":0},null,null,null,null,null,{"$f":"入力!V111","v":0},"／",{"$f":"入力!W111","v":0}]
[106,{"$f":"入力!P52","v":0},null,null,null,null,null,{"$f":"入力!V52","v":0},"／",{"$f":"入力!W52","v":0},136,{"$f":"入力!P82","v":0},null,null,null,null,null,{"$f":"入力!V82","v":0},"／",{"$f":"入力!W82","v":0},166,{"$f":"入力!P112","v":0},null,null,null,null,null,{"$f":"入力!V112","v":0},"／",{"$f":"入力!W112","v":0}]
[107,{"$f":"入力!P53","v":0},null,null,null,null,null,{"$f":"入力!V53","v":0},"／",{"$f":"入力!W53","v":0},137,{"$f":"入力!P83","v":0},null,null,null,null,null,{"$f":"入力!V83","v":0},"／",{"$f":"入力!W83","v":0},167,{"$f":"入力!P113","v":0},null,null,null,null,null,{"$f":"入力!V113","v":0},"／",{"$f":"入力!W113","v":0}]
[108,{"$f":"入力!P54","v":0},null,null,null,null,null,{"$f":"入力!V54","v":0},"／",{"$f":"入力!W54","v":0},138,{"$f":"入力!P84","v":0},null,null,null,null,null,{"$f":"入力!V84","v":0},"／",{"$f":"入力!W84","v":0},168,{"$f":"入力!P114","v":0},null,null,null,null,null,{"$f":"入力!V114","v":0},"／",{"$f":"入力!W114","v":0}]
[109,{"$f":"入力!P55","v":0},null,null,null,null,null,{"$f":"入力!V55","v":0},"／",{"$f":"入力!W55","v":0},139,{"$f":"入力!P85","v":0},null,null,null,null,null,{"$f":"入力!V85","v":0},"／",{"$f":"入力!W85","v":0},169,{"$f":"入力!P115","v":0},null,null,null,null,null,{"$f":"入力!V115","v":0},"／",{"$f":"入力!W115","v":0}]
[110,{"$f":"入力!P56","v":0},null,null,null,null,null,{"$f":"入力!V56","v":0},"／",{"$f":"入力!W56","v":0},140,{"$f":"入力!P86","v":0},null,null,null,null,null,{"$f":"入力!V86","v":0},"／",{"$f":"入力!W86","v":0},170,{"$f":"入力!P116","v":0},null,null,null,null,null,{"$f":"入力!V116","v":0},"／",{"$f":"入力!W116","v":0}]
[111,{"$f":"入力!P57","v":0},null,null,null,null,null,{"$f":"入力!V57","v":0},"／",{"$f":"入力!W57","v":0},141,{"$f":"入力!P87","v":0},null,null,null,null,null,{"$f":"入力!V87","v":0},"／",{"$f":"入力!W87","v":0},171,{"$f":"入力!P117","v":0},null,null,null,null,null,{"$f":"入力!V117","v":0},"／",{"$f":"入力!W117","v":0}]
[112,{"$f":"入力!P58","v":0},null,null,null,null,null,{"$f":"入力!V58","v":0},"／",{"$f":"入力!W58","v":0},142,{"$f":"入力!P88","v":0},null,null,null,null,null,{"$f":"入力!V88","v":0},"／",{"$f":"入力!W88","v":0},172,{"$f":"入力!P118","v":0},null,null,null,null,null,{"$f":"入力!V118","v":0},"／",{"$f":"入力!W118","v":0}]
[113,{"$f":"入力!P59","v":0},null,null,null,null,null,{"$f":"入力!V59","v":0},"／",{"$f":"入力!W59","v":0},143,{"$f":"入力!P89","v":0},null,null,null,null,null,{"$f":"入力!V89","v":0},"／",{"$f":"入力!W89","v":0},173,{"$f":"入力!P119","v":0},null,null,null,null,null,{"$f":"入力!V119","v":0},"／",{"$f":"入力!W119","v":0}]
[114,{"$f":"入力!P60","v":0},null,null,null,null,null,{"$f":"入力!V60","v":0},"／",{"$f":"入力!W60","v":0},144,{"$f":"入力!P90","v":0},null,null,null,null,null,{"$f":"入力!V90","v":0},"／",{"$f":"入力!W90","v":0},174,{"$f":"入力!P120","v":0},null,null,null,null,null,{"$f":"入力!V120","v":0},"／",{"$f":"入力!W120","v":0}]
[115,{"$f":"入力!P61","v":0},null,null,null,null,null,{"$f":"入力!V61","v":0},"／",{"$f":"入力!W61","v":0},145,{"$f":"入力!P91","v":0},null,null,null,null,null,{"$f":"入力!V91","v":0},"／",{"$f":"入力!W91","v":0},175,{"$f":"入力!P121","v":0},null,null,null,null,null,{"$f":"入力!V121","v":0},"／",{"$f":"入力!W121","v":0}]
[116,{"$f":"入力!P62","v":0},null,null,null,null,null,{"$f":"入力!V62","v":0},"／",{"$f":"入力!W62","v":0},146,{"$f":"入力!P92","v":0},null,null,null,null,null,{"$f":"入力!V92","v":0},"／",{"$f":"入力!W92","v":0},176,{"$f":"入力!P122","v":0},null,null,null,null,null,{"$f":"入力!V122","v":0},"／",{"$f":"入力!W122","v":0}]
[117,{"$f":"入力!P63","v":0},null,null,null,null,null,{"$f":"入力!V63","v":0},"／",{"$f":"入力!W63","v":0},147,{"$f":"入力!P93","v":0},null,null,null,null,null,{"$f":"入力!V93","v":0},"／",{"$f":"入力!W93","v":0},177,{"$f":"入力!P123","v":0},null,null,null,null,null,{"$f":"入力!V123","v":0},"／",{"$f":"入力!W123","v":0}]
[118,{"$f":"入力!P64","v":0},null,null,null,null,null,{"$f":"入力!V64","v":0},"／",{"$f":"入力!W64","v":0},148,{"$f":"入力!P94","v":0},null,null,null,null,null,{"$f":"入力!V94","v":0},"／",{"$f":"入力!W94","v":0},178,{"$f":"入力!P124","v":0},null,null,null,null,null,{"$f":"入力!V124","v":0},"／",{"$f":"入力!W124","v":0}]
[119,{"$f":"入力!P65","v":0},null,null,null,null,null,{"$f":"入力!V65","v":0},"／",{"$f":"入力!W65","v":0},149,{"$f":"入力!P95","v":0},null,null,null,null,null,{"$f":"入力!V95","v":0},"／",{"$f":"入力!W95","v":0},179,{"$f":"入力!P125","v":0},null,null,null,null,null,{"$f":"入力!V125","v":0},"／",{"$f":"入力!W125","v":0}]
[120,{"$f":"入力!P66","v":0},null,null,null,null,null,{"$f":"入力!V66","v":0},"／",{"$f":"入力!W66","v":0},150,{"$f":"入力!P96","v":0},null,null,null,null,null,{"$f":"入力!V96","v":0},"／",{"$f":"入力!W96","v":0},180,{"$f":"入力!P126","v":0},null,null,null,null,null,{"$f":"入力!V126","v":0},"／",{"$f":"入力!W126","v":0}]
["※","指揮者も出演者欄に記入すること。当日人数変更の際，この登録人数を超えることはできない。"]
["※","今回よりプログラムへの氏名掲載ができない場合のみ，氏名掲載欄に×印を記入すること。"]
["※","登録引率者及び補助スタッフは出演登録人数に含めないこと。"]